Workbook

Sheet CONSOLIDADO SATISF 22 AL 25
B1: TRAZABILIDAD DE SATISFACCION AL USUARIO AÑOS 2022 A 2024
B2: Mes | C2: Enero | D2: Febrero | E2: Marzo | F2: Abril | G2: Mayo | H2: Junio | I2: Julio | J2: Agosto | K2: Septiembre | L2: Octubre | M2: Noviembre | N2: Diciembre | O2: TOTAL
B3: Resultado 2022 | C3: 0.93579767 | D3: 0.9655914 | E3: 0.95185695 | F3: 0.92514124 | G3: 0.95608782 | H3: 0.96464189 | I3: 0.96090047 | J3: 0.96468562 | K3: 0.95045872 | L3: 0.96734234 | M3: 0.93853591 | N3: 0.96366639 | O3: 0.95475658
B4: Resultado 2023 | C4: 0.98388278 | D4: 0.97405858 | E4: 0.98613377 | F4: 0.98619632 | G4: 0.99384099 | H4: 0.98628746 | I4: 0.98994413 | J4: 0.98656126 | K4: 0.98553055 | L4: 0.99515152 | M4: 0.99301397 | N4: 0.9879386 | O4: 0.98806704
B5: Resultado 2024 | C5: 0.98554217 | D5: 0.99180776 | E5: 0.98199357 | F5: 0.98524666 | G5: 0.98632812 | H5: 0.9673913 | I5: 0.99060543 | J5: 0.99105145 | K5: 0.99109037 | L5: 0.99004975 | M5: 0.9902439 | N5: 0.99244876 | O5: 0.98717575
B6: Resultado 2025 | C6: 0.98506151 | D6: 0.96646072 | E6: 0.98395186 | F6: 0.99909502 | G6: 0.99568221

Sheet Satisfaccion
F3: REPORTE Y ANÁLISIS DE INDICADOR SATISFACCION | P3: GCA-CA-PD11-FORA4
P4: Versión 03
P5: Página 1 de 1
C7: =UPPER(VLOOKUP($Q$10,'[1]LISTADO INDICADORES'!A$5:Y$1000,6,0)) -> SIAU
C8: ASPECTOS GENERALES
C9: NOMBRE DEL INDICADOR | I9: TIPOLOGÍA | J9: TENDENCIA | K9: UNIDAD DE MEDIDA | L9: PERIODO DE REPORTE | N9: FECHA DE REPORTE | Q9: NUMERO DEL INDICADOR
C10: =VLOOKUP($Q$10,'[1]LISTADO INDICADORES'!A$5:Y$1000,4,0) -> Proporción de Satisfacción Global de los usuarios en la IPS | I10: =VLOOKUP($Q$10,'[1]LISTADO INDICADORES'!A$5:Y$1000,20,0) -> proceso | J10: =VLOOKUP($Q$10,'[1]LISTADO INDICADORES'!A$5:Y$1000,21,0) -> Creciente | K10: =VLOOKUP($Q$10,'[1]LISTADO INDICADORES'!A$5:Y$1000,17,0) -> % | L10: I Trimestre | Q10: 246
C11: OBJETIVO DEL INDICADOR | N11: INTERPRETACIÓN
C12: =VLOOKUP($Q$10,'[2]LISTADO INDICADORES'!A$5:Y$1000,10,0) -> La percepción de satisfacción de los usuarios es uno de los factores con mayor incidencia sobre la toma de decisiones al momento de selecciónar instituciónes prestadoras de servicios de salud. La monitorización de este indicador permitirá identificar el nivel de satisfacción de los usuarios con los servicios y trato recibido por parte de las Instituciónes Prestadoras de Servicios de Salud. | N12: =IFERROR("Hay un "&FIXED(N45,4)*100&"% de satisfacción Global de los usuarios en la IPS ","NO HAY DATOS") -> Hay un 99,38% de satisfacción Global de los usuarios en la IPS
C13: Formula del indicador | N13: Análisis del Indicador
C14: =IF(K10="%",C42&" / "&I42&" *100",IF(K10="tasa",C42&" / "&I42&" *1000",IF(K10="Minutos",C42&" / "&I42,IF(K10="Cantidad",C42&" / "&I42,IF(K10="Egresos/cama",C42&" / "&I42,IF(K10="Cantidad",C42&" / "&I42,IF(K10="Horas",C42&" / "&I42,IF(K10="Proporción",C42&" / "&I42,IF(K10="Días",C42&" / "&I42,""))))))))) -> Número de usuarios que respondieron “muy buena” o “buena” a la pregunta: ¿Cómo calificaría su experiencia respecto a los servicios de salud que ha recibido en el Hospital Universitario San José de Popayán E.S.E?” / Número de usuarios que respondieron la pregunta *100 | N14: Durante el primer trimestre del año 2025 se aplicaron 3268 encuestas con un promedio de 1089 por mes, encontrando que los usuarios afirman estar satisfechos con los servicios del HUSJ con un resultado de 97,85 %. Se cumple la meta que para el año 2025 se modificó en 2 puntos, siendo de 97%.SEGUNDO TRIMESTRE 2025: Se aplicaron 3396 encuestas en los servicios ambulatorios y de internación, logrando una satisfacción del 99.38% comparada con el trimestre anterior aumento un punto. Comparada con el segundo trimestre del año 2024 estuvo un punto por debajo Despues de auditoria ISO se reajustara la muestra de encuestas que está muy alta.
C41: Numerador | I41: Denominador | N41: Rango de calificación
C42: =VLOOKUP($Q$10,'[1]LISTADO INDICADORES'!A$5:Y$1000,13,0) -> Número de usuarios que respondieron “muy buena” o “buena” a la pregunta: ¿Cómo calificaría su experiencia respecto a los servicios de salud que ha recibido en el Hospital Universitario San José de Popayán E.S.E?” | I42: =VLOOKUP($Q$10,'[1]LISTADO INDICADORES'!A$5:Y$1000,14,0) -> Número de usuarios que respondieron la pregunta | N42: Satisfactorio | Q42: =VLOOKUP($Q$10,'[2]LISTADO INDICADORES'!A$5:Y$1000,22,0) -> ≥ | R42: =VLOOKUP($Q$10,'[1]LISTADO INDICADORES'!A$5:Y$1000,23,0) -> 0.97
N43: Insatisfactorio | Q43: =VLOOKUP($Q$10,'[2]LISTADO INDICADORES'!A$5:Y$1000,24,0) -> < | R43: =VLOOKUP($Q$10,'[1]LISTADO INDICADORES'!A$5:Y$1000,25,0) -> 0.97
C44: Fuente Numerador | I44: Fuente Denominador | N44: Valor obtenido en el periodo
C45: =VLOOKUP($Q$10,'[1]LISTADO INDICADORES'!A$5:Y$1000,15,0) -> Encuestas de Satisfacción | I45: =VLOOKUP($Q$10,'[1]LISTADO INDICADORES'!A$5:Y$1000,16,0) -> Encuestas de Satisfacción | N45: =IF(Q49>0,O52,IF(P49>0,O52,IF(O49>0,O52,IF(N49>0,L52,IF(M49>0,L52,IF(L49>0,L52,IF(K49>0,I52,IF(J49>0,I52,IF(I49>0,I52,IF(H49>0,F52,IF(G49>0,F52,IF(F49>0,F52,"NO HAY DATOS")))))))))))) -> 0.99381625
C47: Mes | F47: Enero | G47: Febrero | H47: Marzo | I47: Abril | J47: Mayo | K47: Junio | L47: Julio | M47: Agosto | N47: Septiembre | O47: Octubre | P47: Noviembre | Q47: Diciembre | R47: Total
C48: Numerador | F48: 1121 | G48: 1095 | H48: 981 | I48: 1104 | J48: 1153 | K48: 1118 | R48: =SUM(F48:Q48) -> 6572
C49: Denominador | F49: 1138 | G49: 1133 | H49: 997 | I49: 1105 | J49: 1158 | K49: 1133 | R49: =SUM(F49:Q49) -> 6664
C50: Resultado | F50: =IFERROR(F48/F49,"") -> 0.98506151 | G50: =IFERROR(G48/G49,"") -> 0.96646072 | H50: =IFERROR(H48/H49,"") -> 0.98395186 | I50: =IFERROR(I48/I49,"") -> 0.99909502 | J50: =IFERROR(J48/J49,"") -> 0.99568221 | K50: =IFERROR(K48/K49,"") -> 0.98676081 | L50: =IFERROR(L48/L49,"") | M50: =IFERROR(M48/M49,"") | ... Q50: =IFERROR(Q48/Q49,"") | R50: =IFERROR(R48/R49," ") -> 0.98619448
C51: Vigencia anterior | F51: 0.98554217 | G51: 0.99180776 | H51: 0.98199357 | I51: 0.98524666 | J51: 0.98632812 | K51: 0.9673913 | L51: 0.99060543 | M51: 0.99105145 | N51: 0.99109037 | O51: 0.99004975 | P51: 0.9902439 | Q51: 0.99244876 | R51: 0.98717575
C52: Trimestre | F52: =IFERROR(SUM(F48:H48)/SUM(F49:H49),"") -> 0.97827417 | I52: =IFERROR(SUM(I48:K48)/SUM(I49:K49),"") -> 0.99381625 | L52: =IFERROR(SUM(L48:N48)/SUM(L49:N49),"") | O52: =IFERROR(SUM(O48:Q48)/SUM(O49:Q49),"")
C53: Referente de comparación
C54: Meta | F54: =$R$42 -> 0.97 | G54: =$R$42 -> 0.97 | H54: =$R$42 -> 0.97 | I54: =$R$42 -> 0.97 | J54: =$R$42 -> 0.97 | K54: =$R$42 -> 0.97 | L54: =$R$42 -> 0.97 | M54: =$R$42 -> 0.97 | ... R54: =$R$42 -> 0.97
C56: ANALISIS DE CAUSA | L56: ACCION DE MEJORA
C62: DILIGENCIADO POR: | L62: REVISADO POR:
C63: AYDA INES TROCHEZ MORAN - ENF. Gr. 1 apoyo SIAU

Sheet Recomendacion
F3: REPORTE Y ANÁLISIS DE INDICADOR RECOMENDACIÓN | P3: GCA-CA-PD11-FORA4
P4: Versión 03
P5: Página 1 de 1
C7: =UPPER(VLOOKUP($Q$10,'[1]LISTADO INDICADORES'!A$5:Y$1000,6,0)) -> SIAU
C8: ASPECTOS GENERALES
C9: NOMBRE DEL INDICADOR | I9: TIPOLOGÍA | J9: TENDENCIA | K9: UNIDAD DE MEDIDA | L9: PERIODO DE REPORTE | N9: FECHA DE REPORTE | Q9: NUMERO DEL INDICADOR
C10: =VLOOKUP($Q$10,'[1]LISTADO INDICADORES'!A$5:Y$1000,4,0) -> Proporción de usuarios que recomendaría su IPS a familiares y amigos | I10: =VLOOKUP($Q$10,'[1]LISTADO INDICADORES'!A$5:Y$1000,20,0) -> proceso | J10: =VLOOKUP($Q$10,'[1]LISTADO INDICADORES'!A$5:Y$1000,21,0) -> Creciente | K10: =VLOOKUP($Q$10,'[1]LISTADO INDICADORES'!A$5:Y$1000,17,0) -> % | L10: I Trimestre | Q10: 247
C11: OBJETIVO DEL INDICADOR | N11: INTERPRETACIÓN
C12: =VLOOKUP($Q$10,'[1]LISTADO INDICADORES'!A$5:Y$1000,10,0) -> Evaluar la percepción de los usuarios sobre la calidad de los servicios recibidos en la IPS, a través de su disposición a recomendar la institución a familiares y amigos, como un reflejo de la confianza, satisfacción y experiencia vivida durante la atención. | N12: =IFERROR("Hay un "&FIXED(N45,4)*100&"% que recomendaría su IPS a familiares y amigos ","NO HAY DATOS") -> Hay un 99,82% que recomendaría su IPS a familiares y amigos
C13: Formula del indicador | N13: Análisis del Indicador
C14: =IF(K10="%",C42&" / "&I42&" *100",IF(K10="tasa",C42&" / "&I42&" *1000",IF(K10="Minutos",C42&" / "&I42,IF(K10="Cantidad",C42&" / "&I42,IF(K10="Egresos/cama",C42&" / "&I42,IF(K10="Cantidad",C42&" / "&I42,IF(K10="Horas",C42&" / "&I42,IF(K10="Proporción",C42&" / "&I42,IF(K10="Días",C42&" / "&I42,""))))))))) -> Número de usuarios que respondieron “definitivamente sí” o “probablemente sí” a la pregunta:” ¿Recomendaría a sus familiares y amigos el Hospital Universitario San José de Popayán E.S.E?” / Número de usuarios que respondieron la pregunta *100 | N14: Durante el primer trimestre de 2025 se aplicaron 3268 encuestas, a la pregunta si recomendaria el hospital a un amigo o un familiar, se suman las respuestas definitivamente si y probablemente si, obtienendo un resultado de 99,4% de respuesta positiva. Es el reflejo de la satisfacción de los usuarios con los servicios del Hospital Universitario San José. Indicador que se mantiene similar al logrado en el ultimo trimestre año 2024. A pesar de que se incremento la meta al 97% se logra estar por encima de la misma.SEGUNDO TRIMESTRE 2025: Se aplicaron 3396 encuestas en los servicios ambulatorios y de internación, logrando una recomendación del 99.83% que comparada con el primer trimestre nos muestra un aumento de 0.4% y comparada con el mismo trimestre del 2024 nos muestra un incremento del 0.4%.
C41: Numerador | I41: Denominador | N41: Rango de calificación
C42: =VLOOKUP($Q$10,'[1]LISTADO INDICADORES'!A$5:Y$1000,13,0) -> Número de usuarios que respondieron “definitivamente sí” o “probablemente sí” a la pregunta:” ¿Recomendaría a sus familiares y amigos el Hospital Universitario San José de Popayán E.S.E?” | I42: =VLOOKUP($Q$10,'[1]LISTADO INDICADORES'!A$5:Y$1000,14,0) -> Número de usuarios que respondieron la pregunta | N42: Satisfactorio | Q42: =VLOOKUP($Q$10,'[2]LISTADO INDICADORES'!A$5:Y$1000,22,0) -> ≥ | R42: =VLOOKUP($Q$10,'[1]LISTADO INDICADORES'!A$5:Y$1000,23,0) -> 0.97
N43: Insatisfactorio | Q43: =VLOOKUP($Q$10,'[2]LISTADO INDICADORES'!A$5:Y$1000,24,0) -> < | R43: =VLOOKUP($Q$10,'[1]LISTADO INDICADORES'!A$5:Y$1000,25,0) -> 0.97
C44: Fuente Numerador | I44: Fuente Denominador | N44: Valor obtenido en el periodo
C45: =VLOOKUP($Q$10,'[1]LISTADO INDICADORES'!A$5:Y$1000,15,0) -> Encuestas de Satisfacción | I45: =VLOOKUP($Q$10,'[1]LISTADO INDICADORES'!A$5:Y$1000,16,0) -> Encuestas de Satisfacción | N45: =IF(Q49>0,O52,IF(P49>0,O52,IF(O49>0,O52,IF(N49>0,L52,IF(M49>0,L52,IF(L49>0,L52,IF(K49>0,I52,IF(J49>0,I52,IF(I49>0,I52,IF(H49>0,F52,IF(G49>0,F52,IF(F49>0,F52,"NO HAY DATOS")))))))))))) -> 0.99823322
C47: Mes | F47: Enero | G47: Febrero | H47: Marzo | I47: Abril | J47: Mayo | K47: Junio | L47: Julio | M47: Agosto | N47: Septiembre | O47: Octubre | P47: Noviembre | Q47: Diciembre | R47: Total
C48: Numerador | F48: 1132 | G48: 1125 | H48: 992 | I48: 1105 | J48: 1154 | K48: 1131 | R48: =SUM(F48:Q48) -> 6639
C49: Denominador | F49: 1138 | G49: 1133 | H49: 997 | I49: 1105 | J49: 1158 | K49: 1133 | R49: =SUM(F49:Q49) -> 6664
C50: Resultado | F50: =IFERROR(F48/F49,"") -> 0.99472759 | G50: =IFERROR(G48/G49,"") -> 0.9929391 | H50: =IFERROR(H48/H49,"") -> 0.99498495 | I50: =IFERROR(I48/I49,"") -> 1 | J50: =IFERROR(J48/J49,"") -> 0.99654577 | K50: =IFERROR(K48/K49,"") -> 0.99823477 | L50: =IFERROR(L48/L49,"") | M50: =IFERROR(M48/M49,"") | ... Q50: =IFERROR(Q48/Q49,"") | R50: =IFERROR(R48/R49," ") -> 0.9962485
C51: Vigencia anterior | F51: 0.99196787 | G51: 0.9967231 | H51: 0.99356913 | I51: 0.99538958 | J51: 0.99707031 | K51: 0.98586957 | L51: 0.99895616 | M51: 0.9966443 | N51: 0.99787866 | O51: 0.99701493 | P51: 0.99512195 | Q51: 0.99568501 | R51: 0.99516176
C52: Trimestre | F52: =IFERROR(SUM(F48:H48)/SUM(F49:H49),"") -> 0.99418605 | I52: =IFERROR(SUM(I48:K48)/SUM(I49:K49),"") -> 0.99823322 | L52: =IFERROR(SUM(L48:N48)/SUM(L49:N49),"") | O52: =IFERROR(SUM(O48:Q48)/SUM(O49:Q49),"")
C53: Referente de comparación
C54: Meta | F54: =$R$42 -> 0.97 | G54: =$R$42 -> 0.97 | H54: =$R$42 -> 0.97 | I54: =$R$42 -> 0.97 | J54: =$R$42 -> 0.97 | K54: =$R$42 -> 0.97 | L54: =$R$42 -> 0.97 | M54: =$R$42 -> 0.97 | ... R54: =$R$42 -> 0.97
C56: ANALISIS DE CAUSA | L56: ACCION DE MEJORA
C62: DILIGENCIADO POR: | L62: REVISADO POR:
C63: AYDA INES TROCHEZ MORAN - ENF. Gr. 1 apoyo a SIAU

Sheet opor estadia
F3: REPORTE Y ANÁLISIS DE INDICADOR | P3: GCA-CA-PD11-FORA4
P4: Versión 03
P5: Página 1 de 1
C7: =UPPER(VLOOKUP($Q$10,'[2]LISTADO INDICADORES'!A$5:Y$1000,6,0)) -> SIAU
C8: ASPECTOS GENERALES
C9: NOMBRE DEL INDICADOR | I9: TIPOLOGÍA | J9: TENDENCIA | K9: UNIDAD DE MEDIDA | L9: PERIODO DE REPORTE | N9: FECHA DE REPORTE | Q9: NUMERO DEL INDICADOR
C10: =VLOOKUP($Q$10,'[2]LISTADO INDICADORES'!A$5:Y$1000,4,0) -> Porcentaje de usuarios que refieren estar satisfechos con la oportunidad brindada durante su estadia en el Hospital. | I10: =VLOOKUP($Q$10,'[2]LISTADO INDICADORES'!A$5:Y$1000,20,0) -> proceso | J10: =VLOOKUP($Q$10,'[2]LISTADO INDICADORES'!A$5:Y$1000,21,0) -> Creciente | K10: =VLOOKUP($Q$10,'[2]LISTADO INDICADORES'!A$5:Y$1000,17,0) -> % | Q10: 248
C11: OBJETIVO DEL INDICADOR | N11: INTERPRETACIÓN
C12: =VLOOKUP($Q$10,'[2]LISTADO INDICADORES'!A$5:Y$1000,10,0) -> La oportunidad es un atributo de calidad y es un derecho del paciente, por tanto se requiere realizar la medicion del indicador en el Hospital Universitario San Jose de Popayán y según resultado tomar acciones de mejoramiento continuo en los procesos. | N12: =IFERROR("Hay un "&FIXED(N45,4)*100&"%"&" de nacidos vivos con bajo peso al nacer","NO HAY DATOS") -> NO HAY DATOS
C13: Formula del indicador | N13: Análisis del Indicador
C14: =IF(K10="%",C42&" / "&I42&" *100",IF(K10="tasa",C42&" / "&I42&" *1000",IF(K10="Minutos",C42&" / "&I42,IF(K10="Cantidad",C42&" / "&I42,IF(K10="Egresos/cama",C42&" / "&I42,IF(K10="Cantidad",C42&" / "&I42,IF(K10="Horas",C42&" / "&I42,IF(K10="Proporción",C42&" / "&I42,IF(K10="Días",C42&" / "&I42,""))))))))) -> Número de usuarios que respondieron “muy buena” o “buena” a la pregunta ¿la rapidez para resolver sus problemas ha sido ? / Número sumatorio usuarios que respondieron la pregunta muy buena o buena *100
C41: Numerador | I41: Denominador | N41: Rango de calificación
C42: =VLOOKUP($Q$10,'[2]LISTADO INDICADORES'!A$5:Y$1000,13,0) -> Número de usuarios que respondieron “muy buena” o “buena” a la pregunta ¿la rapidez para resolver sus problemas ha sido ? | I42: =VLOOKUP($Q$10,'[2]LISTADO INDICADORES'!A$5:Y$1000,14,0) -> Número sumatorio usuarios que respondieron la pregunta muy buena o buena | N42: Satisfactorio | Q42: =VLOOKUP($Q$10,'[2]LISTADO INDICADORES'!A$5:Y$1000,22,0) -> ≥ | R42: =VLOOKUP($Q$10,'[2]LISTADO INDICADORES'!A$5:Y$1000,23,0) -> 0.9
N43: Insatisfactorio | Q43: =VLOOKUP($Q$10,'[2]LISTADO INDICADORES'!A$5:Y$1000,24,0) -> < | R43: =VLOOKUP($Q$10,'[2]LISTADO INDICADORES'!A$5:Y$1000,25,0) -> 0.9
C44: Fuente Numerador | I44: Fuente Denominador | N44: Valor obtenido en el periodo
C45: =VLOOKUP($Q$10,'[2]LISTADO INDICADORES'!A$5:Y$1000,15,0) -> Encuestas de Satisfacción | I45: =VLOOKUP($Q$10,'[2]LISTADO INDICADORES'!A$5:Y$1000,16,0) -> 0 | N45: =IF(Q49>0,O52,IF(P49>0,O52,IF(O49>0,O52,IF(N49>0,L52,IF(M49>0,L52,IF(L49>0,L52,IF(K49>0,I52,IF(J49>0,I52,IF(I49>0,I52,IF(H49>0,F52,IF(G49>0,F52,IF(F49>0,F52,"NO HAY DATOS")))))))))))) -> NO HAY DATOS
C47: Mes | F47: Enero | G47: Febrero | H47: Marzo | I47: Abril | J47: Mayo | K47: Junio | L47: Julio | M47: Agosto | N47: Septiembre | O47: Octubre | P47: Noviembre | Q47: Diciembre | R47: Total
C48: Numerador | R48: =SUM(F48:Q48) -> 0
C49: Denominador | R49: =SUM(F49:Q49) -> 0
C50: Resultado | F50: =IFERROR(F48/F49,"") | G50: =IFERROR(G48/G49,"") | H50: =IFERROR(H48/H49,"") | I50: =IFERROR(I48/I49,"") | J50: =IFERROR(J48/J49,"") | K50: =IFERROR(K48/K49,"") | L50: =IFERROR(L48/L49,"") | M50: =IFERROR(M48/M49,"") | ... Q50: =IFERROR(Q48/Q49,"") | R50: =IFERROR(R48/R49," ")
C51: Vigencia anterior
C52: Trimestre | F52: =IFERROR(SUM(F48:H48)/SUM(F49:H49),"") | I52: =IFERROR(SUM(I48:K48)/SUM(I49:K49),"") | L52: =IFERROR(SUM(L48:N48)/SUM(L49:N49),"") | O52: =IFERROR(SUM(O48:Q48)/SUM(O49:Q49),"")
C53: Referente de comparación
C54: Meta | F54: =$R$42 -> 0.9 | G54: =$R$42 -> 0.9 | H54: =$R$42 -> 0.9 | I54: =$R$42 -> 0.9 | J54: =$R$42 -> 0.9 | K54: =$R$42 -> 0.9 | L54: =$R$42 -> 0.9 | M54: =$R$42 -> 0.9 | ... R54: =$R$42 -> 0.9
C56: ANALISIS DE CAUSA | L56: ACCION DE MEJORA
C62: DILIGENCIADO POR: | L62: REVISADO POR:

Sheet oport
F3: REPORTE Y ANÁLISIS DE INDICADOR | P3: GCA-CA-PD11-FORA4
P4: Versión 03
P5: Página 1 de 1
C7: =UPPER(VLOOKUP($Q$10,'[2]LISTADO INDICADORES'!A$5:Y$1000,6,0)) -> SIAU
C8: ASPECTOS GENERALES
C9: NOMBRE DEL INDICADOR | I9: TIPOLOGÍA | J9: TENDENCIA | K9: UNIDAD DE MEDIDA | L9: PERIODO DE REPORTE | N9: FECHA DE REPORTE | Q9: NUMERO DEL INDICADOR
C10: =VLOOKUP($Q$10,'[2]LISTADO INDICADORES'!A$5:Y$1000,4,0) -> Porcentaje de usuarios que refieren estar satisfechos con la oportunidad brindada durante su estadia en el Hospital. | I10: =VLOOKUP($Q$10,'[2]LISTADO INDICADORES'!A$5:Y$1000,20,0) -> proceso | J10: =VLOOKUP($Q$10,'[2]LISTADO INDICADORES'!A$5:Y$1000,21,0) -> Creciente | K10: =VLOOKUP($Q$10,'[2]LISTADO INDICADORES'!A$5:Y$1000,17,0) -> % | Q10: 248
C11: OBJETIVO DEL INDICADOR | N11: INTERPRETACIÓN
C12: =VLOOKUP($Q$10,'[2]LISTADO INDICADORES'!A$5:Y$1000,10,0) -> La oportunidad es un atributo de calidad y es un derecho del paciente, por tanto se requiere realizar la medicion del indicador en el Hospital Universitario San Jose de Popayán y según resultado tomar acciones de mejoramiento continuo en los procesos. | N12: =IFERROR("Por cada 1000 días cateter venoso central se presentan "&FIXED(N45,2)&" infeccion del torrente sanguineo asociado a cateter ","NO HAY DATOS") -> NO HAY DATOS
C13: Formula del indicador | N13: Análisis del Indicador
C14: =IF(K10="%",C42&" / "&I42&" *100",IF(K10="tasa",C42&" / "&I42&" *1000",IF(K10="Minutos",C42&" / "&I42,IF(K10="Cantidad",C42&" / "&I42,IF(K10="Egresos/cama",C42&" / "&I42,IF(K10="Cantidad",C42&" / "&I42,IF(K10="Horas",C42&" / "&I42,IF(K10="Proporción",C42&" / "&I42,IF(K10="Días",C42&" / "&I42,""))))))))) -> Número de usuarios que respondieron “muy buena” o “buena” a la pregunta ¿la rapidez para resolver sus problemas ha sido ? / Número sumatorio usuarios que respondieron la pregunta muy buena o buena *100
C41: Numerador | I41: Denominador | N41: Rango de calificación
C42: =VLOOKUP($Q$10,'[2]LISTADO INDICADORES'!A$5:Y$1000,13,0) -> Número de usuarios que respondieron “muy buena” o “buena” a la pregunta ¿la rapidez para resolver sus problemas ha sido ? | I42: =VLOOKUP($Q$10,'[2]LISTADO INDICADORES'!A$5:Y$1000,14,0) -> Número sumatorio usuarios que respondieron la pregunta muy buena o buena | N42: Satisfactorio | Q42: =VLOOKUP($Q$10,'[2]LISTADO INDICADORES'!A$5:Y$1000,22,0) -> ≥ | R42: =VLOOKUP($Q$10,'[2]LISTADO INDICADORES'!A$5:Y$1000,23,0) -> 0.9
N43: Insatisfactorio | Q43: =VLOOKUP($Q$10,'[2]LISTADO INDICADORES'!A$5:Y$1000,24,0) -> < | R43: =VLOOKUP($Q$10,'[2]LISTADO INDICADORES'!A$5:Y$1000,25,0) -> 0.9
C44: Fuente Numerador | I44: Fuente Denominador | N44: Valor obtenido en el periodo
C45: =VLOOKUP($Q$10,'[2]LISTADO INDICADORES'!A$5:Y$1000,15,0) -> Encuestas de Satisfacción | I45: =VLOOKUP($Q$10,'[2]LISTADO INDICADORES'!A$5:Y$1000,16,0) -> 0 | N45: =IF(Q49>0,O52,IF(P49>0,O52,IF(O49>0,O52,IF(N49>0,L52,IF(M49>0,L52,IF(L49>0,L52,IF(K49>0,I52,IF(J49>0,I52,IF(I49>0,I52,IF(H49>0,F52,IF(G49>0,F52,IF(F49>0,F52,"NO HAY DATOS")))))))))))) -> NO HAY DATOS
C47: Mes | F47: Enero | G47: Febrero | H47: Marzo | I47: Abril | J47: Mayo | K47: Junio | L47: Julio | M47: Agosto | N47: Septiembre | O47: Octubre | P47: Noviembre | Q47: Diciembre | R47: Total
C48: Numerador | R48: =SUM(F48:Q48) -> 0
C49: Denominador | R49: =SUM(F49:Q49) -> 0
C50: Resultado | F50: =IFERROR(F48/F49,"") | G50: =IFERROR(G48/G49,"") | H50: =IFERROR(H48/H49,"") | I50: =IFERROR(I48/I49,"") | J50: =IFERROR(J48/J49,"") | K50: =IFERROR(K48/K49,"") | L50: =IFERROR(L48/L49,"") | M50: =IFERROR(M48/M49,"") | ... Q50: =IFERROR(Q48/Q49,"") | R50: =IFERROR(R48/R49," ")
C51: Vigencia anterior
C52: Trimestre | F52: =IFERROR(SUM(F48:H48)/SUM(F49:H49),"") | I52: =IFERROR(SUM(I48:K48)/SUM(I49:K49),"") | L52: =IFERROR(SUM(L48:N48)/SUM(L49:N49),"") | O52: =IFERROR(SUM(O48:Q48)/SUM(O49:Q49),"")
C53: Referente de comparación
C54: Meta | F54: =$R$42 -> 0.9 | G54: =$R$42 -> 0.9 | H54: =$R$42 -> 0.9 | I54: =$R$42 -> 0.9 | J54: =$R$42 -> 0.9 | K54: =$R$42 -> 0.9 | L54: =$R$42 -> 0.9 | M54: =$R$42 -> 0.9 | ... R54: =$R$42 -> 0.9
C56: ANALISIS DE CAUSA | L56: ACCION DE MEJORA
C62: DILIGENCIADO POR: | L62: REVISADO POR:

Sheet Quejas
F3: REPORTE Y ANÁLISIS DE INDICADOR | P3: GCA-CA-PD11-FORA4
P4: Versión 03
P5: Página 1 de 1
C7: =UPPER(VLOOKUP($Q$10,'[1]LISTADO INDICADORES'!A$5:Y$1000,6,0)) -> SIAU
C8: ASPECTOS GENERALES
C9: NOMBRE DEL INDICADOR | I9: TIPOLOGÍA | J9: TENDENCIA | K9: UNIDAD DE MEDIDA | L9: PERIODO DE REPORTE | N9: FECHA DE REPORTE | Q9: NUMERO DEL INDICADOR
C10: =VLOOKUP($Q$10,'[1]LISTADO INDICADORES'!A$5:Y$1000,4,0) -> Porcentaje de quejas global | I10: =VLOOKUP($Q$10,'[1]LISTADO INDICADORES'!A$5:Y$1000,20,0) -> proceso | J10: =VLOOKUP($Q$10,'[1]LISTADO INDICADORES'!A$5:Y$1000,21,0) -> Decreciente | K10: =VLOOKUP($Q$10,'[1]LISTADO INDICADORES'!A$5:Y$1000,17,0) -> % | L10: I Trimestre | N10: 10 | O10: 4 | P10: 2005 | Q10: 249
C11: OBJETIVO DEL INDICADOR | N11: INTERPRETACIÓN
C12: =VLOOKUP($Q$10,'[1]LISTADO INDICADORES'!A$5:Y$1000,10,0) -> Se requiere realizar la medicion del indicador con el fin de realizar la percepcion del paciente frente al personal que lo atendió durante la estadia en el Hospital Universitario San Jose de Popayán. | N12: =IFERROR("Hay un "&FIXED(N45,4)*100&"% quejas ","NO HAY DATOS") -> Hay un 0,46% quejas
C13: Formula del indicador | N13: Análisis del Indicador
C14: =IF(K10="%",C42&" / "&I42&" *100",IF(K10="tasa",C42&" / "&I42&" *1000",IF(K10="Minutos",C42&" / "&I42,IF(K10="Cantidad",C42&" / "&I42,IF(K10="Egresos/cama",C42&" / "&I42,IF(K10="Cantidad",C42&" / "&I42,IF(K10="Horas",C42&" / "&I42,IF(K10="Proporción",C42&" / "&I42,IF(K10="Días",C42&" / "&I42,""))))))))) -> Numero de quejas mensual / Total de egresos mensual global. *100 | N14: Durante el primer trimestre del año 2025 se recibieron 182 quejas, que corresponde al 0.63% sobre una meta del 3%. Este indicador se mide procentaje sobre total de egresos . En el segundo trimestre se reciben 136 quejas, las cuales se les dio respuesta antes de 15 dias. Estas quejas son gestionadas por los coordinadores y los representantes de las agremiaciones sindicales , quienes analizan y planteas las acciones de mejora a que haya lugar para evitar repetición.
C41: Numerador | I41: Denominador | N41: Rango de calificación
C42: =VLOOKUP($Q$10,'[1]LISTADO INDICADORES'!A$5:Y$1000,13,0) -> Numero de quejas mensual | I42: =VLOOKUP($Q$10,'[1]LISTADO INDICADORES'!A$5:Y$1000,14,0) -> Total de egresos mensual global. | N42: Satisfactorio | Q42: =VLOOKUP($Q$10,'[1]LISTADO INDICADORES'!A$5:Y$1000,22,0) -> ≤ | R42: =VLOOKUP($Q$10,'[1]LISTADO INDICADORES'!A$5:Y$1000,23,0) -> 0.03
N43: Insatisfactorio | Q43: =VLOOKUP($Q$10,'[2]LISTADO INDICADORES'!A$5:Y$1000,24,0) -> > | R43: =VLOOKUP($Q$10,'[1]LISTADO INDICADORES'!A$5:Y$1000,25,0) -> 0.03
C44: Fuente Numerador | I44: Fuente Denominador | N44: Valor obtenido en el periodo
C45: =VLOOKUP($Q$10,'[1]LISTADO INDICADORES'!A$5:Y$1000,15,0) -> Formato de PQRSYF | I45: =VLOOKUP($Q$10,'[1]LISTADO INDICADORES'!A$5:Y$1000,16,0) -> Estadistica | N45: =IF(Q49>0,O52,IF(P49>0,O52,IF(O49>0,O52,IF(N49>0,L52,IF(M49>0,L52,IF(L49>0,L52,IF(K49>0,I52,IF(J49>0,I52,IF(I49>0,I52,IF(H49>0,F52,IF(G49>0,F52,IF(F49>0,F52,"NO HAY DATOS")))))))))))) -> 0.0045620744
C47: Mes | F47: Enero | G47: Febrero | H47: Marzo | I47: Abril | J47: Mayo | K47: Junio | L47: Julio | M47: Agosto | N47: Septiembre | O47: Octubre | P47: Noviembre | Q47: Diciembre | R47: Total
C48: Numerador | F48: 39 | G48: 73 | H48: 70 | I48: 37 | J48: 61 | K48: 38 | R48: =SUM(F48:Q48) -> 318
C49: Denominador | F49: 9374 | G49: 9718 | H49: 9862 | I49: 8813 | J49: 9661 | K49: 11337 | R49: =SUM(F49:Q49) -> 58765
C50: Resultado | F50: =IFERROR(F48/F49,"") -> 0.0041604438 | G50: =IFERROR(G48/G49,"") -> 0.0075118337 | H50: =IFERROR(H48/H49,"") -> 0.0070979517 | I50: =IFERROR(I48/I49,"") -> 0.0041983434 | J50: =IFERROR(J48/J49,"") -> 0.0063140462 | K50: =IFERROR(K48/K49,"") -> 0.0033518568 | L50: =IFERROR(L48/L49,"") | M50: =IFERROR(M48/M49,"") | ... Q50: =IFERROR(Q48/Q49,"") | R50: =IFERROR(R48/R49," ") -> 0.0054113843
C51: Vigencia anterior | F51: 0.0033467202 | G51: 0.0028571429 | H51: 0.0025310048 | I51: 0.0042007001 | J51: 0.0062771608 | K51: 0.003000375 | L51: 0.0046309981 | M51: 0.0060849598 | N51: 0.010068892 | O51: 0.009092746 | P51: 0.0058139535 | Q51: 0.0051133837 | R51: 0.0053985182
C52: Trimestre | F52: =IFERROR(SUM(F48:H48)/SUM(F49:H49),"") -> 0.0062858327 | I52: =IFERROR(SUM(I48:K48)/SUM(I49:K49),"") -> 0.0045620744 | L52: =IFERROR(SUM(L48:N48)/SUM(L49:N49),"") | O52: =IFERROR(SUM(O48:Q48)/SUM(O49:Q49),"")
C53: Referente de comparación
C54: Meta | F54: =$R$42 -> 0.03 | G54: =$R$42 -> 0.03 | H54: =$R$42 -> 0.03 | I54: =$R$42 -> 0.03 | J54: =$R$42 -> 0.03 | K54: =$R$42 -> 0.03 | L54: =$R$42 -> 0.03 | M54: =$R$42 -> 0.03 | ... R54: =$R$42 -> 0.03
C56: ANALISIS DE CAUSA | L56: ACCION DE MEJORA
C57: Los usuarios relacionan mal trato por actitud, falta de empatia y falta de humanización.
C62: DILIGENCIADO POR: | L62: REVISADO POR:
C63: AYDA INES TROCHEZ MORAN - ENF. Gr. 1 apoyo a SIAU

Sheet Tasa quejas
F3: REPORTE Y ANÁLISIS DE INDICADOR | P3: GCA-CA-PD11-FORA4
P4: Versión 03
P5: Página 1 de 1
C7: =UPPER(VLOOKUP($Q$10,'[1]LISTADO INDICADORES'!A$5:Y$1000,6,0)) -> SIAU
C8: ASPECTOS GENERALES
C9: NOMBRE DEL INDICADOR | I9: TIPOLOGÍA | J9: TENDENCIA | K9: UNIDAD DE MEDIDA | L9: PERIODO DE REPORTE | N9: FECHA DE REPORTE | Q9: NUMERO DEL INDICADOR
C10: =VLOOKUP($Q$10,'[1]LISTADO INDICADORES'!A$5:Y$1000,4,0) -> Tasa de quejas por usuarios | I10: =VLOOKUP($Q$10,'[1]LISTADO INDICADORES'!A$5:Y$1000,20,0) -> proceso | J10: =VLOOKUP($Q$10,'[1]LISTADO INDICADORES'!A$5:Y$1000,21,0) -> Decreciente | K10: =VLOOKUP($Q$10,'[1]LISTADO INDICADORES'!A$5:Y$1000,17,0) -> Tasa | L10: I Trimestre | Q10: 250
C11: OBJETIVO DEL INDICADOR | N11: INTERPRETACIÓN
C12: =VLOOKUP($Q$10,'[1]LISTADO INDICADORES'!A$5:Y$1000,10,0) -> Las quejas que presentan los usuarios permiten identificar oportunidades de mejora en los procesos, servicios o personas, la percepcion del paciente permite plantear planes de mejora en el Hospital Universitario San Jose de Popayán. | N12: =IFERROR("Por cada 1000 pacientes atendidos se presentan "&FIXED(N45,2)&" quejas","NO HAY DATOS") -> Por cada 1000 pacientes atendidos se presentan 4,56 quejas
C13: Formula del indicador | N13: Análisis del Indicador
C14: =IF(K10="%",C42&" / "&I42&" *100",IF(K10="tasa",C42&" / "&I42&" *1000",IF(K10="Minutos",C42&" / "&I42,IF(K10="Cantidad",C42&" / "&I42,IF(K10="Egresos/cama",C42&" / "&I42,IF(K10="Cantidad",C42&" / "&I42,IF(K10="Horas",C42&" / "&I42,IF(K10="Proporción",C42&" / "&I42,IF(K10="Días",C42&" / "&I42,""))))))))) -> Numero de quejas recibidas / Total depaciente atendidos (egresos) mensual global. *1000 | N14: Durante el primer trimestre del año 2025 se recibieron 182 quejas, las cuales se gestionaron oportunamente antes de los 15 dias dando respuesta a los usuarios. Las quejas estan relacionadas en su mayoria con el trato recibido, en las cuales 137 se asocian a este motivo. 16 con información suministrada y 14 con oportunidad para obtener un servicio. Todas las quejas son gestionadas ante las coordinaciones de los servicios , las agremiaciones sindicales para la intervención y mejora correspondiente. De igual manera el área de humanización interviene los servicios con mayor numero de quejas, realiza jornadas de sensibilización al trato amable, empatico y respetuoso.
C41: Numerador | I41: Denominador | N41: Rango de calificación
C42: =VLOOKUP($Q$10,'[1]LISTADO INDICADORES'!A$5:Y$1000,13,0) -> Numero de quejas recibidas | I42: =VLOOKUP($Q$10,'[1]LISTADO INDICADORES'!A$5:Y$1000,14,0) -> Total depaciente atendidos (egresos) mensual global. | N42: Satisfactorio | Q42: =VLOOKUP($Q$10,'[2]LISTADO INDICADORES'!A$5:Y$1000,22,0) -> ≤ | R42: =VLOOKUP($Q$10,'[1]LISTADO INDICADORES'!A$5:Y$1000,23,0) -> 10
N43: Insatisfactorio | Q43: =VLOOKUP($Q$10,'[2]LISTADO INDICADORES'!A$5:Y$1000,24,0) -> > | R43: =VLOOKUP($Q$10,'[1]LISTADO INDICADORES'!A$5:Y$1000,25,0) -> 10
C44: Fuente Numerador | I44: Fuente Denominador | N44: Valor obtenido en el periodo
C45: =VLOOKUP($Q$10,'[1]LISTADO INDICADORES'!A$5:Y$1000,15,0) -> PQR recibidas por los diferentes medios | I45: =VLOOKUP($Q$10,'[1]LISTADO INDICADORES'!A$5:Y$1000,16,0) -> Estadistica | N45: =IF(Q49>0,O52,IF(P49>0,O52,IF(O49>0,O52,IF(N49>0,L52,IF(M49>0,L52,IF(L49>0,L52,IF(K49>0,I52,IF(J49>0,I52,IF(I49>0,I52,IF(H49>0,F52,IF(G49>0,F52,IF(F49>0,F52,"NO HAY DATOS")))))))))))) -> 4.5620744
C47: Mes | F47: Enero | G47: Febrero | H47: Marzo | I47: Abril | J47: Mayo | K47: Junio | L47: Julio | M47: Agosto | N47: Septiembre | O47: Octubre | P47: Noviembre | Q47: Diciembre | R47: Total
C48: Numerador | F48: 39 | G48: 73 | H48: 70 | I48: 37 | J48: 61 | K48: 38 | R48: =SUM(F48:Q48) -> 318
C49: Denominador | F49: 9374 | G49: 9718 | H49: 9862 | I49: 8813 | J49: 9661 | K49: 11337 | R49: =SUM(F49:Q49) -> 58765
C50: Resultado | F50: =IFERROR((F48/F49)*1000,"") -> 4.1604438 | G50: =IFERROR((G48/G49)*1000,"") -> 7.5118337 | H50: =IFERROR((H48/H49)*1000,"") -> 7.0979517 | I50: =IFERROR((I48/I49)*1000,"") -> 4.1983434 | J50: =IFERROR((J48/J49)*1000,"") -> 6.3140462 | K50: =IFERROR((K48/K49)*1000,"") -> 3.3518568 | L50: =IFERROR((L48/L49)*1000,"") | M50: =IFERROR((M48/M49)*1000,"") | ... R50: =IFERROR((R48/R49)*1000,"") -> 5.4113843
C51: Vigencia anterior | F51: 3.3467202 | G51: 2.8571429 | H51: 2.5310048 | I51: 4.2007001 | J51: 6.2771608 | K51: 3.000375 | L51: 4.6309981 | M51: 6.0849598 | N51: 10.068892 | O51: 9.092746 | P51: 8.5779642 | Q51: 5.1133837 | R51: 5.6722193
C52: Trimestre | F52: =IFERROR((SUM(F48:H48)/SUM(F49:H49))*1000,"") -> 6.2858327 | I52: =IFERROR((SUM(I48:K48)/SUM(I49:K49))*1000,"") -> 4.5620744 | L52: =IFERROR((SUM(L48:N48)/SUM(L49:N49))*1000,"") | O52: =IFERROR((SUM(O48:Q48)/SUM(O49:Q49))*1000,"")
C53: Referente de comparación
C54: Meta | F54: =$R$42 -> 10 | G54: =$R$42 -> 10 | H54: =$R$42 -> 10 | I54: =$R$42 -> 10 | J54: =$R$42 -> 10 | K54: =$R$42 -> 10 | L54: =$R$42 -> 10 | M54: =$R$42 -> 10 | ... R54: =$R$42 -> 10
C56: ANALISIS DE CAUSA | L56: ACCION DE MEJORA
C62: DILIGENCIADO POR: | L62: REVISADO POR:
C63: AYDA INES TROCHEZ MORAN - ENF. Gr. 1 apoyo SIAU

Sheet Felicitaciones
F3: REPORTE Y ANÁLISIS DE INDICADOR | P3: GCA-CA-PD11-FORA4
P4: Versión 03
P5: Página 1 de 1
C7: =UPPER(VLOOKUP($Q$10,'[3]LISTADO INDICADORES'!A$5:Y$1000,6,0)) -> SIAU
C8: ASPECTOS GENERALES
C9: NOMBRE DEL INDICADOR | I9: TIPOLOGÍA | J9: TENDENCIA | K9: UNIDAD DE MEDIDA | L9: PERIODO DE REPORTE | N9: FECHA DE REPORTE | Q9: NUMERO DEL INDICADOR
C10: =VLOOKUP($Q$10,'[1]LISTADO INDICADORES'!A$5:Y$1000,4,0) -> Porcentaje de felicitaciones global | I10: =VLOOKUP($Q$10,'[3]LISTADO INDICADORES'!A$5:Y$1000,20,0) -> proceso | J10: =VLOOKUP($Q$10,'[1]LISTADO INDICADORES'!A$5:Y$1000,21,0) -> Creciente | K10: =VLOOKUP($Q$10,'[1]LISTADO INDICADORES'!A$5:Y$1000,17,0) -> % | L10: I Trimestre | Q10: 251
C11: OBJETIVO DEL INDICADOR | N11: INTERPRETACIÓN
C12: =VLOOKUP($Q$10,'[1]LISTADO INDICADORES'!A$5:Y$1000,10,0) -> Medir la proporción de felicitaciones dentro del total de PQRSF recibidas, como expresión de satisfacción del usuario. | N12: =IFERROR("Hay un "&FIXED(N45,4)*100&"% de felicitaciones ","NO HAY DATOS") -> Hay un 80,76% de felicitaciones
C13: Formula del indicador | N13: Análisis del Indicador
C14: =IF(K10="%",C42&" / "&I42&" *100",IF(K10="tasa",C42&" / "&I42&" *1000",IF(K10="Minutos",C42&" / "&I42,IF(K10="Cantidad",C42&" / "&I42,IF(K10="Egresos/cama",C42&" / "&I42,IF(K10="Cantidad",C42&" / "&I42,IF(K10="Horas",C42&" / "&I42,IF(K10="Proporción",C42&" / "&I42,IF(K10="Días",C42&" / "&I42,""))))))))) -> Numero de felicitaciones mensual / Total de PQRSF recibidas por los diferentes canales de comunicacion. *100 | N14: Durante el primer trimestre se reciben 1706 felicitaciones, que corresponden al 77,2% del total de pqrsf recibidas, indicador de satisfacción espontanea que los usuarios manifiestan y que es congruente con el % de satisfacción medido en las encuestas.Durante el segundo trimestre de 2025 se recibieron 1830 felicitaciones , 124 mas que el trimestre anterior. Las felicitaciones son expresiones espontaneas de los usuarios y demuestran la satisfacción que se les genera con la prestación de los servicios.
C41: Numerador | I41: Denominador | N41: Rango de calificación
C42: =VLOOKUP($Q$10,'[1]LISTADO INDICADORES'!A$5:Y$1000,13,0) -> Numero de felicitaciones mensual | I42: =VLOOKUP($Q$10,'[1]LISTADO INDICADORES'!A$5:Y$1000,14,0) -> Total de PQRSF recibidas por los diferentes canales de comunicacion. | N42: Satisfactorio | Q42: =VLOOKUP($Q$10,'[1]LISTADO INDICADORES'!A$5:Y$1000,22,0) -> ≥ | R42: =VLOOKUP($Q$10,'[1]LISTADO INDICADORES'!A$5:Y$1000,23,0) -> 0.75
N43: Insatisfactorio | Q43: =VLOOKUP($Q$10,'[1]LISTADO INDICADORES'!A$5:Y$1000,24,0) -> < | R43: =VLOOKUP($Q$10,'[1]LISTADO INDICADORES'!A$5:Y$1000,25,0) -> 0.75
C44: Fuente Numerador | I44: Fuente Denominador | N44: Valor obtenido en el periodo
C45: =VLOOKUP($Q$10,'[1]LISTADO INDICADORES'!A$5:Y$1000,15,0) -> Formato de PQRSYF de todos los canales de comunicación | I45: =VLOOKUP($Q$10,'[1]LISTADO INDICADORES'!A$5:Y$1000,16,0) -> Formato de PQRSYF de todos los canales de comunicación | N45: =IF(Q49>0,O52,IF(P49>0,O52,IF(O49>0,O52,IF(N49>0,L52,IF(M49>0,L52,IF(L49>0,L52,IF(K49>0,I52,IF(J49>0,I52,IF(I49>0,I52,IF(H49>0,F52,IF(G49>0,F52,IF(F49>0,F52,"NO HAY DATOS")))))))))))) -> 0.80759047
C47: Mes | F47: Enero | G47: Febrero | H47: Marzo | I47: Abril | J47: Mayo | K47: Junio | L47: Julio | M47: Agosto | N47: Septiembre | O47: Octubre | P47: Noviembre | Q47: Diciembre | R47: Total
C48: Numerador | F48: 433 | G48: 649 | H48: 624 | I48: 657 | J48: 613 | K48: 560 | R48: =SUM(F48:Q48) -> 3536
C49: Denominador | F49: 529 | G49: 840 | H49: 839 | I49: 795 | J49: 760 | K49: 711 | R49: =SUM(F49:Q49) -> 4474
C50: Resultado | F50: =IFERROR(F48/F49,"") -> 0.81852552 | G50: =IFERROR(G48/G49,"") -> 0.77261905 | H50: =IFERROR(H48/H49,"") -> 0.74374255 | I50: =IFERROR(I48/I49,"") -> 0.82641509 | J50: =IFERROR(J48/J49,"") -> 0.80657895 | K50: =IFERROR(K48/K49,"") -> 0.78762307 | L50: =IFERROR(L48/L49,"") | M50: =IFERROR(M48/M49,"") | ... Q50: =IFERROR(Q48/Q49,"") | R50: =IFERROR(R48/R49," ") -> 0.79034421
C51: Vigencia anterior | F51: 0.9613 | G51: 0.78119002 | H51: 0.7527881 | I51: 0.76385224 | J51: 0.73570325 | K51: 0.75855131 | L51: 0.80071174 | M51: 0.75897436 | N51: 0.82450832 | O51: 0.84437596 | P51: 0.75974026 | Q51: 0.90776699 | R51: 0.80529273
C52: Trimestre | F52: =IFERROR(SUM(F48:H48)/SUM(F49:H49),"") -> 0.77264493 | I52: =IFERROR(SUM(I48:K48)/SUM(I49:K49),"") -> 0.80759047 | L52: =IFERROR(SUM(L48:N48)/SUM(L49:N49),"") | O52: =IFERROR(SUM(O48:Q48)/SUM(O49:Q49),"")
C53: Referente de comparación
C54: Meta | F54: =R42 -> 0.75 | G54: =R42 -> 0.75 | H54: =R42 -> 0.75 | I54: =R42 -> 0.75 | J54: =R42 -> 0.75 | K54: =R42 -> 0.75 | L54: =R42 -> 0.75 | M54: =R42 -> 0.75 | N54: =R42 -> 0.75 | O54: =R42 -> 0.75 | P54: =R42 -> 0.75 | Q54: =R42 -> 0.75 | R54: =R42 -> 0.75
C56: ANALISIS DE CAUSA | L56: ACCION DE MEJORA
C57: La atención ha mejorado en los servicios, se motiva al personal con las felicitaciones, se retroalimenta de las oportunidades de mejora y se interviene oportunamente.
C62: DILIGENCIADO POR: | L62: REVISADO POR:
C63: AYDA INES TROCHEZ MORAN - ENF. Gr. 1 apoyo a SIAU

Sheet Quejas no tramitadas
F3: REPORTE Y ANÁLISIS DE INDICADOR | P3: GCA-CA-PD11-FORA4
P4: Versión 03
P5: Página 1 de 1
C7: =UPPER(VLOOKUP($Q$10,'[4]LISTADO INDICADORES'!A$5:Y$1000,6,0)) -> SIAU
C8: ASPECTOS GENERALES
C9: NOMBRE DEL INDICADOR | I9: TIPOLOGÍA | J9: TENDENCIA | K9: UNIDAD DE MEDIDA | L9: PERIODO DE REPORTE | N9: FECHA DE REPORTE | Q9: NUMERO DEL INDICADOR
C10: =VLOOKUP($Q$10,'[1]LISTADO INDICADORES'!A$5:Y$1000,4,0) -> Porcentaje de quejas no tramitadas | I10: =VLOOKUP($Q$10,'[1]LISTADO INDICADORES'!A$5:Y$1000,20,0) -> proceso | J10: =VLOOKUP($Q$10,'[1]LISTADO INDICADORES'!A$5:Y$1000,21,0) -> Decreciente | K10: =VLOOKUP($Q$10,'[1]LISTADO INDICADORES'!A$5:Y$1000,17,0) -> % | L10: I Trimestre | Q10: 252
C11: OBJETIVO DEL INDICADOR | N11: INTERPRETACIÓN
C12: =VLOOKUP($Q$10,'[1]LISTADO INDICADORES'!A$5:Y$1000,10,0) -> Monitorear el cumplimiento en la gestión de quejas recibidas, identificando oportunidades de mejora en el proceso de atención y respuesta al usuario. | N12: =IFERROR("Hay un "&FIXED(N45,4)*100&"% de quejas no tramitadas","NO HAY DATOS") -> Hay un 1,47% de quejas no tramitadas
C13: Formula del indicador | N13: Análisis del Indicador
C14: =IF(K10="%",C42&" / "&I42&" *100",IF(K10="tasa",C42&" / "&I42&" *1000",IF(K10="Minutos",C42&" / "&I42,IF(K10="Cantidad",C42&" / "&I42,IF(K10="Egresos/cama",C42&" / "&I42,IF(K10="Cantidad",C42&" / "&I42,IF(K10="Horas",C42&" / "&I42,IF(K10="Proporción",C42&" / "&I42,IF(K10="Días",C42&" / "&I42,""))))))))) -> Numero de quejas no pertinentes y/o que no se puedan gestionar / Número de total de quejas recibidas *100 | N14: Las quejas no tramitadas se encuentran por debajo de la meta, significa que son pocas las pqrsf que no tienen datos o no se entiende lo que el usuario requiere expresar. El procedimiento de llamado que se hace al usuario para complementar información permite que la mayoria de las pqrsf sean tramitadas.
C41: Numerador | I41: Denominador | N41: Rango de calificación
C42: =VLOOKUP($Q$10,'[1]LISTADO INDICADORES'!A$5:Y$1000,13,0) -> Numero de quejas no pertinentes y/o que no se puedan gestionar | I42: =VLOOKUP($Q$10,'[1]LISTADO INDICADORES'!A$5:Y$1000,14,0) -> Número de total de quejas recibidas | N42: Satisfactorio | Q42: =VLOOKUP($Q$10,'[2]LISTADO INDICADORES'!A$5:Y$1000,22,0) -> ≤ | R42: =VLOOKUP($Q$10,'[1]LISTADO INDICADORES'!A$5:Y$1000,23,0) -> 0.05
N43: Insatisfactorio | Q43: =VLOOKUP($Q$10,'[2]LISTADO INDICADORES'!A$5:Y$1000,24,0) -> > | R43: =VLOOKUP($Q$10,'[1]LISTADO INDICADORES'!A$5:Y$1000,25,0) -> 0.05
C44: Fuente Numerador | I44: Fuente Denominador | N44: Valor obtenido en el periodo
C45: =VLOOKUP($Q$10,'[1]LISTADO INDICADORES'!A$5:Y$1000,15,0) -> Formato de PQRSYF de todos los canales de comunicación | I45: =VLOOKUP($Q$10,'[1]LISTADO INDICADORES'!A$5:Y$1000,16,0) -> Formato de PQRSYF de todos los canales de comunicación | N45: =IF(Q49>0,O52,IF(P49>0,O52,IF(O49>0,O52,IF(N49>0,L52,IF(M49>0,L52,IF(L49>0,L52,IF(K49>0,I52,IF(J49>0,I52,IF(I49>0,I52,IF(H49>0,F52,IF(G49>0,F52,IF(F49>0,F52,"NO HAY DATOS")))))))))))) -> 0.014705882
C47: Mes | F47: Enero | G47: Febrero | H47: Marzo | I47: Abril | J47: Mayo | K47: Junio | L47: Julio | M47: Agosto | N47: Septiembre | O47: Octubre | P47: Noviembre | Q47: Diciembre | R47: Total
C48: Numerador | F48: 0 | G48: 1 | H48: 0 | I48: 0 | J48: 1 | K48: 1 | R48: =SUM(F48:Q48) -> 3
C49: Denominador | F49: 39 | G49: 73 | H49: 70 | I49: 37 | J49: 61 | K49: 38 | R49: =SUM(F49:Q49) -> 318
C50: Resultado | F50: =IFERROR(F48/F49,"") -> 0 | G50: =IFERROR(G48/G49,"") -> 0.01369863 | H50: =IFERROR(H48/H49,"") -> 0 | I50: =IFERROR(I48/I49,"") -> 0 | J50: =IFERROR(J48/J49,"") -> 0.016393443 | K50: =IFERROR(K48/K49,"") -> 0.026315789 | L50: =IFERROR(L48/L49,"") | M50: =IFERROR(M48/M49,"") | ... Q50: =IFERROR(Q48/Q49,"") | R50: =IFERROR(R48/R49," ") -> 0.0094339623
C51: Vigencia anterior | F51: 0.016949153 | G51: 0.013435701 | H51: 0.014869888 | I51: 0.13888889 | J51: 0.19230769 | K51: 0.20833333 | L51: 0.14893617 | M51: 0.094339623 | N51: 0 | O51: 0.044444444 | P51: 0.049180328 | Q51: 0.043478261 | R51: 0.031449631
C52: Trimestre | F52: =IFERROR(SUM(F48:H48)/SUM(F49:H49),"") -> 0.0054945055 | I52: =IFERROR(SUM(I48:K48)/SUM(I49:K49),"") -> 0.014705882 | L52: =IFERROR(SUM(L48:N48)/SUM(L49:N49),"") | O52: =IFERROR(SUM(O48:Q48)/SUM(O49:Q49),"")
C53: Referente de comparación
C54: Meta | F54: =$R$42 -> 0.05 | G54: =$R$42 -> 0.05 | H54: =$R$42 -> 0.05 | I54: =$R$42 -> 0.05 | J54: =$R$42 -> 0.05 | K54: =$R$42 -> 0.05 | L54: =$R$42 -> 0.05 | M54: =$R$42 -> 0.05 | ... R54: =$R$42 -> 0.05
C56: ANALISIS DE CAUSA | L56: ACCION DE MEJORA
C62: DILIGENCIADO POR: | L62: REVISADO POR:
C63: AYDA INES TROCHEZ MORAN - ENF. Gr. 1 a SIAU

Sheet Respuesta <15
F3: REPORTE Y ANÁLISIS DE INDICADOR | P3: GCA-CA-PD11-FORA4
P4: Versión 03
P5: Página 1 de 1
C7: =UPPER(VLOOKUP($Q$10,'[5]LISTADO INDICADORES'!A$5:Y$1000,6,0)) -> SIAU
C8: ASPECTOS GENERALES
C9: NOMBRE DEL INDICADOR | I9: TIPOLOGÍA | J9: TENDENCIA | K9: UNIDAD DE MEDIDA | L9: PERIODO DE REPORTE | N9: FECHA DE REPORTE | Q9: NUMERO DEL INDICADOR
C10: =VLOOKUP($Q$10,'[1]LISTADO INDICADORES'!A$5:Y$1000,4,0) -> Porcentaje de quejas con respuesta antes de 15 días | I10: =VLOOKUP($Q$10,'[1]LISTADO INDICADORES'!A$5:Y$1000,20,0) -> proceso | J10: =VLOOKUP($Q$10,'[1]LISTADO INDICADORES'!A$5:Y$1000,21,0) -> Creciente | K10: =VLOOKUP($Q$10,'[1]LISTADO INDICADORES'!A$5:Y$1000,17,0) -> % | L10: I Trimestre | N10: 10 | O10: 4 | P10: 2025 | Q10: 253
C11: OBJETIVO DEL INDICADOR | N11: INTERPRETACIÓN
C12: =VLOOKUP($Q$10,'[1]LISTADO INDICADORES'!A$5:Y$1000,10,0) -> El control de calidad de los servicios que reciben los Pacientes no solo debe ser un motivo de cumplimiento de las normas mínimas establecidas por la Superintendencia Naciónal de Salud; al contrario, se debe convertir en un política de servicio, en la que las empresas busquen diferenciarse de ahi la importancia de gestionar las PQRS y dar respuesta oportuna a los usuarios | N12: =IFERROR("Hay un "&FIXED(N45,4)*100&"% de quejas con respuesta antes de 15 días","NO HAY DATOS") -> Hay un 98,53% de quejas con respuesta antes de 15 días
C13: Formula del indicador | N13: Análisis del Indicador
C14: =IF(K10="%",C42&" / "&I42&" *100",IF(K10="tasa",C42&" / "&I42&" *1000",IF(K10="Minutos",C42&" / "&I42,IF(K10="Cantidad",C42&" / "&I42,IF(K10="Egresos/cama",C42&" / "&I42,IF(K10="Cantidad",C42&" / "&I42,IF(K10="Horas",C42&" / "&I42,IF(K10="Proporción",C42&" / "&I42,IF(K10="Días",C42&" / "&I42,""))))))))) -> Número de quejas con respuesta menor a 15 dias habiles / Número de quejas Recepcionadas. *100 | N14: Durante el primer trimestre del 2025 se reciben 182 quejas, de las cuales 175 se resolvieron antes de 15 dias, logrando un indicador de 96,1%, quedando por encima de la meta esperada que es del 85%.Esto refleja el resultado del plan de mejora realizado sobre los responsables de dar respuesta oportuna, el seguimiento a la gestión interna en el SIAU . En el segundo trimestre del año 2025 se implementó plan de mejora dado que se requiere cumplir los tiempos de norma, esto permitio que de 134/136 quejas se respondieran antes de los 15 años.
C41: Numerador | I41: Denominador | N41: Rango de calificación
C42: =VLOOKUP($Q$10,'[1]LISTADO INDICADORES'!A$5:Y$1000,13,0) -> Número de quejas con respuesta menor a 15 dias habiles | I42: =VLOOKUP($Q$10,'[1]LISTADO INDICADORES'!A$5:Y$1000,14,0) -> Número de quejas Recepcionadas. | N42: Satisfactorio | Q42: =VLOOKUP($Q$10,'[2]LISTADO INDICADORES'!A$5:Y$1000,22,0) -> ≥ | R42: =VLOOKUP($Q$10,'[1]LISTADO INDICADORES'!A$5:Y$1000,23,0) -> 0.85
N43: Insatisfactorio | Q43: =VLOOKUP($Q$10,'[2]LISTADO INDICADORES'!A$5:Y$1000,24,0) -> < | R43: =VLOOKUP($Q$10,'[6]LISTADO INDICADORES'!A$5:Y$1000,25,0) -> 0.85
C44: Fuente Numerador | I44: Fuente Denominador | N44: Valor obtenido en el periodo
C45: =VLOOKUP($Q$10,'[1]LISTADO INDICADORES'!A$5:Y$1000,15,0) -> Reporte aplicativo PQRS | I45: =VLOOKUP($Q$10,'[1]LISTADO INDICADORES'!A$5:Y$1000,16,0) -> Reporte aplicativo PQRS | N45: =IF(Q49>0,O52,IF(P49>0,O52,IF(O49>0,O52,IF(N49>0,L52,IF(M49>0,L52,IF(L49>0,L52,IF(K49>0,I52,IF(J49>0,I52,IF(I49>0,I52,IF(H49>0,F52,IF(G49>0,F52,IF(F49>0,F52,"NO HAY DATOS")))))))))))) -> 0.98529412
C47: Mes | F47: Enero | G47: Febrero | H47: Marzo | I47: Abril | J47: Mayo | K47: Junio | L47: Julio | M47: Agosto | N47: Septiembre | O47: Octubre | P47: Noviembre | Q47: Diciembre | R47: Total
C48: Numerador | F48: 37 | G48: 68 | H48: 70 | I48: 35 | J48: 61 | K48: 38 | R48: =SUM(F48:Q48) -> 309
C49: Denominador | F49: 39 | G49: 73 | H49: 70 | I49: 37 | J49: 61 | K49: 38 | R49: =SUM(F49:Q49) -> 318
C50: Resultado | F50: =IFERROR(F48/F49,"") -> 0.94871795 | G50: =IFERROR(G48/G49,"") -> 0.93150685 | H50: =IFERROR(H48/H49,"") -> 1 | I50: =IFERROR(I48/I49,"") -> 0.94594595 | J50: =IFERROR(J48/J49,"") -> 1 | K50: =IFERROR(K48/K49,"") -> 1 | L50: =IFERROR(L48/L49,"") | M50: =IFERROR(M48/M49,"") | ... Q50: =IFERROR(Q48/Q49,"") | R50: =IFERROR(R48/R49," ") -> 0.97169811 | U50: 160
C51: Vigencia anterior | F51: 0.92 | G51: 0.86956522 | H51: 0.95 | I51: 0.94444444 | J51: 0.86538462 | K51: 0.79166667 | L51: 1 | M51: 1 | N51: 0.82105263 | O51: 0.74444444 | P51: 0.92307692 | Q51: 0.84782609 | R51: 0.87150838
C52: Trimestre | F52: =IFERROR(SUM(F48:H48)/SUM(F49:H49),"") -> 0.96153846 | I52: =IFERROR(SUM(I48:K48)/SUM(I49:K49),"") -> 0.98529412 | L52: =IFERROR(SUM(L48:N48)/SUM(L49:N49),"") | O52: =IFERROR(SUM(O48:Q48)/SUM(O49:Q49),"")
C53: Referente de comparación
C54: Meta | F54: =$R$42 -> 0.85 | G54: =$R$42 -> 0.85 | H54: =$R$42 -> 0.85 | I54: =$R$42 -> 0.85 | J54: =$R$42 -> 0.85 | K54: =$R$42 -> 0.85 | L54: =$R$42 -> 0.85 | M54: =$R$42 -> 0.85 | ... R54: =$R$42 -> 0.85
C56: ANALISIS DE CAUSA | L56: ACCION DE MEJORA
C62: DILIGENCIADO POR: | L62: REVISADO POR:
C63: AYDA INES TROCHEZ MORAN - ENF. Gr. 1 a SIAU

Sheet Sugerencias
F3: REPORTE Y ANÁLISIS DE INDICADOR | P3: GCA-CA-PD11-FORA4
P4: Versión 03
P5: Página 1 de 1
C7: =UPPER(VLOOKUP($Q$10,'[1]LISTADO INDICADORES'!A$5:Y$1000,6,0)) -> SIAU
C8: ASPECTOS GENERALES
C9: NOMBRE DEL INDICADOR | I9: TIPOLOGÍA | J9: TENDENCIA | K9: UNIDAD DE MEDIDA | L9: PERIODO DE REPORTE | N9: FECHA DE REPORTE | Q9: NUMERO DEL INDICADOR
C10: =VLOOKUP($Q$10,'[1]LISTADO INDICADORES'!A$5:Y$1000,4,0) -> Porcentaje de sugerencias global | I10: =VLOOKUP($Q$10,'[1]LISTADO INDICADORES'!A$5:Y$1000,20,0) -> proceso | J10: =VLOOKUP($Q$10,'[1]LISTADO INDICADORES'!A$5:Y$1000,21,0) -> Creciente | K10: =VLOOKUP($Q$10,'[1]LISTADO INDICADORES'!A$5:Y$1000,17,0) -> % | L10: I Trimestre | Q10: 254
C11: OBJETIVO DEL INDICADOR | N11: INTERPRETACIÓN
C12: =VLOOKUP($Q$10,'[1]LISTADO INDICADORES'!A$5:Y$1000,10,0) -> Las SUGERENCIAS son una expresión de mejora y cambio para los servicios y colaboradores, por tanto se requiere realizar la medicion del indicador como un factor contributivo a los planes de mejoramiento en los servicios del Hospital Universitario San Jose de Popayán. | N12: =IFERROR("Hay un "&FIXED(N45,4)*100&"% de sugerencias ","NO HAY DATOS") -> Hay un 3,84% de sugerencias
C13: Formula del indicador | N13: Análisis del Indicador
C14: =IF(K10="%",C42&" / "&I42&" *100",IF(K10="tasa",C42&" / "&I42&" *1000",IF(K10="Minutos",C42&" / "&I42,IF(K10="Cantidad",C42&" / "&I42,IF(K10="Egresos/cama",C42&" / "&I42,IF(K10="Cantidad",C42&" / "&I42,IF(K10="Horas",C42&" / "&I42,IF(K10="Proporción",C42&" / "&I42,IF(K10="Días",C42&" / "&I42,""))))))))) -> Numero de sugerencias mensual / Total de formatos de PQRSF. *100 | N14: Se midio sobre total de formatos de pqrsf , se reciben 117 sugerencias que son llevadas a los servicios para que sean tenidas en cuenta en los planes de mejora . Se espera que maximo sea el 10% sobre el total de pqrsf recibidas, por tanto se cumple la meta propuesta. En el segundo trimestre de 2025 se recibieron 87 sugerencias, todas ellas se tienen en cuenta para el mejoramiento continuo en los diferentes servicios .
C41: Numerador | I41: Denominador | N41: Rango de calificación
C42: =VLOOKUP($Q$10,'[1]LISTADO INDICADORES'!A$5:Y$1000,13,0) -> Numero de sugerencias mensual | I42: =VLOOKUP($Q$10,'[1]LISTADO INDICADORES'!A$5:Y$1000,14,0) -> Total de formatos de PQRSF. | N42: Satisfactorio | Q42: =VLOOKUP($Q$10,'[1]LISTADO INDICADORES'!A$5:Y$1000,22,0) -> ≤ | R42: =VLOOKUP($Q$10,'[1]LISTADO INDICADORES'!A$5:Y$1000,23,0) -> 0.1
N43: Insatisfactorio | Q43: =VLOOKUP($Q$10,'[1]LISTADO INDICADORES'!A$5:Y$1000,24,0) -> ≥ | R43: =VLOOKUP($Q$10,'[1]LISTADO INDICADORES'!A$5:Y$1000,25,0) -> 0.1
C44: Fuente Numerador | I44: Fuente Denominador | N44: Valor obtenido en el periodo
C45: =VLOOKUP($Q$10,'[1]LISTADO INDICADORES'!A$5:Y$1000,15,0) -> Formato de PQRSYF de todos los canales de comunicación | I45: =VLOOKUP($Q$10,'[1]LISTADO INDICADORES'!A$5:Y$1000,16,0) -> Formato de PQRSYF de todos los canales de comunicación | N45: =IF(Q49>0,O52,IF(P49>0,O52,IF(O49>0,O52,IF(N49>0,L52,IF(M49>0,L52,IF(L49>0,L52,IF(K49>0,I52,IF(J49>0,I52,IF(I49>0,I52,IF(H49>0,F52,IF(G49>0,F52,IF(F49>0,F52,"NO HAY DATOS")))))))))))) -> 0.038393645
C47: Mes | F47: Enero | G47: Febrero | H47: Marzo | I47: Abril | J47: Mayo | K47: Junio | L47: Julio | M47: Agosto | N47: Septiembre | O47: Octubre | P47: Noviembre | Q47: Diciembre | R47: Total
C48: Numerador | F48: 19 | G48: 48 | H48: 50 | I48: 33 | J48: 24 | K48: 30 | R48: =SUM(F48:Q48) -> 204
C49: Denominador | F49: 496 | G49: 656 | H49: 675 | I49: 795 | J49: 760 | K49: 711 | R49: =SUM(F49:Q49) -> 4093
C50: Resultado | F50: =IFERROR(F48/F49,"") -> 0.038306452 | G50: =IFERROR(G48/G49,"") -> 0.073170732 | H50: =IFERROR(H48/H49,"") -> 0.074074074 | I50: =IFERROR(I48/I49,"") -> 0.041509434 | J50: =IFERROR(J48/J49,"") -> 0.031578947 | K50: =IFERROR(K48/K49,"") -> 0.042194093 | L50: =IFERROR(L48/L49,"") | M50: =IFERROR(M48/M49,"") | ... Q50: =IFERROR(Q48/Q49,"") | R50: =IFERROR(R48/R49," ") -> 0.049841192
C51: Vigencia anterior | F51: 0.16101695 | G51: 0.09596929 | H51: 0.083643123 | I51: 0.064643799 | J51: 0.057187017 | K51: 0.052313883 | L51: 0.069395018 | M51: 0.04957265 | N51: 0.031770045 | O51: 0.092449923 | P51: 0.075757576 | Q51: 0.082524272 | R51: 0.074068598
C52: Trimestre | F52: =IFERROR(SUM(F48:H48)/SUM(F49:H49),"") -> 0.064039409 | I52: =IFERROR(SUM(I48:K48)/SUM(I49:K49),"") -> 0.038393645 | L52: =IFERROR(SUM(L48:N48)/SUM(L49:N49),"") | O52: =IFERROR(SUM(O48:Q48)/SUM(O49:Q49),"")
C53: Referente de comparación
C54: Meta | F54: 0.1 | G54: 0.1 | H54: 0.1 | I54: 0.1 | J54: 0.1 | K54: 0.1 | L54: 0.1 | M54: 0.1 | N54: 0.1 | O54: 0.1 | P54: 0.1 | Q54: 0.1 | R54: 0.1
C56: ANALISIS DE CAUSA | L56: ACCION DE MEJORA
C62: DILIGENCIADO POR: | L62: REVISADO POR:
C63: AYDA INES TROCHEZ MORAN - ENF. Gr. 1 apoyo a SIAU

Sheet Reclamos Simples
F3: REPORTE Y ANÁLISIS DE INDICADOR | P3: GCA-CA-PD11-FORA4
P4: Versión 03
P5: Página 1 de 1
C7: =UPPER(VLOOKUP($Q$10,'[7]LISTADO INDICADORES'!A$5:Y$998,6,0)) -> SIAU
C8: ASPECTOS GENERALES
C9: NOMBRE DEL INDICADOR | I9: TIPOLOGÍA | J9: TENDENCIA | K9: UNIDAD DE MEDIDA | L9: PERIODO DE REPORTE | N9: FECHA DE REPORTE | Q9: NUMERO DEL INDICADOR
C10: =VLOOKUP($Q$10,'[7]LISTADO INDICADORES'!A$5:Y$998,4,0) -> Porcentaje de Reclamos Simples Resueltos | I10: =VLOOKUP($Q$10,'[7]LISTADO INDICADORES'!A$5:Y$998,20,0) -> proceso | J10: =VLOOKUP($Q$10,'[7]LISTADO INDICADORES'!A$5:Y$998,21,0) -> Creciente | K10: =VLOOKUP($Q$10,'[7]LISTADO INDICADORES'!A$5:Y$998,17,0) -> % | Q10: 670
C11: OBJETIVO DEL INDICADOR | N11: INTERPRETACIÓN
C12: =VLOOKUP($Q$10,'[7]LISTADO INDICADORES'!A$5:Y$998,10,0) -> Lograr que un porcentaje significativo de los reclamos simples recibidos sean gestionados y resueltos dentro de los plazos definidos, asegurando una respuesta eficiente a las solicitudes de los usuarios. | N12: =IFERROR("Hay un "&FIXED(N45,4)*100&"%"&" de adherencia a guias de prcatica Clinica","NO HAY DATOS") -> Hay un 91,38% de adherencia a guias de prcatica Clinica
C13: Formula del indicador | N13: Análisis del Indicador
C14: =IF(K10="%",C42&" / "&I42&" *100",IF(K10="tasa",C42&" / "&I42&" *1000",IF(K10="Minutos",C42&" / "&I42,IF(K10="Cantidad",C42&" / "&I42,IF(K10="Egresos/cama",C42&" / "&I42,IF(K10="Cantidad",C42&" / "&I42,IF(K10="Horas",C42&" / "&I42,IF(K10="Proporción",C42&" / "&I42,IF(K10="Días",C42&" / "&I42,""))))))))) -> Número de reclamos simples resueltos dentro de 72 horas / Número total de reclamos simples recibidos *100 | N14: Durante el primer trimestre del año 2025 se recibieron 74 reclamos simples, de los cuales el 91,8% se resolvieron en 72 horas como está definido en la norma.Queda el indicador cumpliendo meta.En el segundo trimestre del año 2025 se recibieron 106 reclamos , clasificados como simples, el objetivo es darles respuesta en los tiempos de norma establecidos por la Supersalud, que para este caso es de 72 horas.Se logra un resultado del 91,38%, quedando con la meta cumplida.
C41: Numerador | I41: Denominador | N41: Rango de calificación
C42: =VLOOKUP($Q$10,'[7]LISTADO INDICADORES'!A$5:Y$998,13,0) -> Número de reclamos simples resueltos dentro de 72 horas | I42: =VLOOKUP($Q$10,'[7]LISTADO INDICADORES'!A$5:Y$998,14,0) -> Número total de reclamos simples recibidos | N42: Satisfactorio | Q42: =VLOOKUP($Q$10,'[7]LISTADO INDICADORES'!A$5:Y$998,22,0) -> ≥ | R42: =VLOOKUP($Q$10,'[7]LISTADO INDICADORES'!A$5:Y$998,23,0) -> 0.8
N43: Insatisfactorio | Q43: =VLOOKUP($Q$10,'[7]LISTADO INDICADORES'!A$5:Y$998,24,0) -> < | R43: =VLOOKUP($Q$10,'[7]LISTADO INDICADORES'!A$5:Y$998,23,0) -> 0.8
C44: Fuente Numerador | I44: Fuente Denominador | N44: Valor obtenido en el periodo
C45: =VLOOKUP($Q$10,'[7]LISTADO INDICADORES'!A$5:Y$998,15,0) -> Reporte aplicativo PQRS | I45: =VLOOKUP($Q$10,'[7]LISTADO INDICADORES'!A$5:Y$998,16,0) -> Reporte aplicativo PQRS | N45: =IF(Q49>0,O52,IF(P49>0,O52,IF(O49>0,O52,IF(N49>0,L52,IF(M49>0,L52,IF(L49>0,L52,IF(K49>0,I52,IF(J49>0,I52,IF(I49>0,I52,IF(H49>0,F52,IF(G49>0,F52,IF(F49>0,F52,"NO HAY DATOS")))))))))))) -> 0.9137931
C47: Mes | F47: Enero | G47: Febrero | H47: Marzo | I47: Abril | J47: Mayo | K47: Junio | L47: Julio | M47: Agosto | N47: Septiembre | O47: Octubre | P47: Noviembre | Q47: Diciembre | R47: Total
C48: Numerador | F48: 12 | G48: 38 | H48: 62 | I48: 31 | J48: 26 | K48: 49 | R48: =SUM(F48:Q48) -> 218
C49: Denominador | F49: 21 | G49: 39 | H49: 62 | I49: 38 | J49: 26 | K49: 52 | R49: =SUM(F49:Q49) -> 238
C50: Resultado | F50: =IFERROR(F48/F49,"") -> 0.57142857 | G50: =IFERROR(G48/G49,"") -> 0.97435897 | H50: =IFERROR(H48/H49,"") -> 1 | I50: =IFERROR(I48/I49,"") -> 0.81578947 | J50: =IFERROR(J48/J49,"") -> 1 | K50: =IFERROR(K48/K49,"") -> 0.94230769 | L50: =IFERROR(L48/L49,"") | M50: =IFERROR(M48/M49,"") | ... Q50: =IFERROR(Q48/Q49,"") | R50: =IFERROR(R48/R49," ") -> 0.91596639
C51: Vigencia anterior
C52: Trimestre | F52: =IFERROR(SUM(F48:H48)/SUM(F49:H49),"") -> 0.91803279 | I52: =IFERROR(SUM(I48:K48)/SUM(I49:K49),"") -> 0.9137931 | L52: =IFERROR(SUM(L48:N48)/SUM(L49:N49),"") | O52: =IFERROR(SUM(O48:Q48)/SUM(O49:Q49),"")
C53: Referente de comparación
C54: Meta | F54: 0.8 | G54: 0.8 | H54: 0.8 | I54: 0.8 | J54: 0.8 | K54: 0.8 | L54: 0.8 | M54: 0.8 | N54: 0.8 | O54: 0.8 | P54: 0.8 | Q54: 0.8 | R54: 0.8
C56: ANALISIS DE CAUSA | L56: ACCION DE MEJORA
C62: DILIGENCIADO POR: | L62: REVISADO POR:

Sheet Reclamo priorizado
F3: REPORTE Y ANÁLISIS DE INDICADOR | P3: GCA-CA-PD11-FORA4
P4: Versión 03
P5: Página 1 de 1
C7: =UPPER(VLOOKUP($Q$10,'[7]LISTADO INDICADORES'!A$5:Y$998,6,0)) -> SIAU
C8: ASPECTOS GENERALES
C9: NOMBRE DEL INDICADOR | I9: TIPOLOGÍA | J9: TENDENCIA | K9: UNIDAD DE MEDIDA | L9: PERIODO DE REPORTE | N9: FECHA DE REPORTE | Q9: NUMERO DEL INDICADOR
C10: =VLOOKUP($Q$10,'[7]LISTADO INDICADORES'!A$5:Y$998,4,0) -> Porcentaje de Reclamos Priorizados Resueltos | I10: =VLOOKUP($Q$10,'[7]LISTADO INDICADORES'!A$5:Y$998,20,0) -> proceso | J10: =VLOOKUP($Q$10,'[7]LISTADO INDICADORES'!A$5:Y$998,21,0) -> Creciente | K10: =VLOOKUP($Q$10,'[7]LISTADO INDICADORES'!A$5:Y$998,17,0) -> % | Q10: 671
C11: OBJETIVO DEL INDICADOR | N11: INTERPRETACIÓN
C12: =VLOOKUP($Q$10,'[7]LISTADO INDICADORES'!A$5:Y$998,10,0) -> Asegurar que un porcentaje importante de los reclamos priorizados sean gestionados y resueltos dentro de los plazos establecidos, demostrando una atención ágil y efectiva para aquellos reclamos que requieren tratamiento especial. | N12: =IFERROR("Hay un "&FIXED(N45,4)*100&"%"&" de adherencia a guias de prcatica Clinica","NO HAY DATOS") -> Hay un 88,89% de adherencia a guias de prcatica Clinica
C13: Formula del indicador | N13: Análisis del Indicador
C14: =IF(K10="%",C42&" / "&I42&" *100",IF(K10="tasa",C42&" / "&I42&" *1000",IF(K10="Minutos",C42&" / "&I42,IF(K10="Cantidad",C42&" / "&I42,IF(K10="Egresos/cama",C42&" / "&I42,IF(K10="Cantidad",C42&" / "&I42,IF(K10="Horas",C42&" / "&I42,IF(K10="Proporción",C42&" / "&I42,IF(K10="Días",C42&" / "&I42,""))))))))) -> Número de reclamos priorizados resueltos dentro de 48 horas / Número total de reclamos priorizados recibidos *100 | N14: En el primer trimestre del año 2025 se presentaron tres reclamos de riesgo priorizado, estos eventos son registrados por la web en pacientes internados, situaciones que deben ser resueltas en 24 horas, sin embargo de los cuator eventos solo 3 estuvieron dentro de los tiempos de norma, por ello se logra un 75% de resultado favorable. Es de anotar que la Supersalud colocó unos tiempos muy cortos y hay eventos en los que se requieren dispositivos o apoyo de otros procesos, lo que hace que se resuelva posterior a las 48 horas. Para el segundo trimestre se tiene un total de 9 reclamos priorizados los cuales se 8 resolvieron dentro de las 48 horas y por ello el cumplimiento del 88,89%. Se logra cerrar el segundo trimestre por encima de la meta establecida .
C41: Numerador | I41: Denominador | N41: Rango de calificación
C42: =VLOOKUP($Q$10,'[7]LISTADO INDICADORES'!A$5:Y$998,13,0) -> Número de reclamos priorizados resueltos dentro de 48 horas | I42: =VLOOKUP($Q$10,'[7]LISTADO INDICADORES'!A$5:Y$998,14,0) -> Número total de reclamos priorizados recibidos | N42: Satisfactorio | Q42: =VLOOKUP($Q$10,'[7]LISTADO INDICADORES'!A$5:Y$998,22,0) -> ≥ | R42: =VLOOKUP($Q$10,'[7]LISTADO INDICADORES'!A$5:Y$998,23,0) -> 0.8
N43: Insatisfactorio | Q43: =VLOOKUP($Q$10,'[7]LISTADO INDICADORES'!A$5:Y$998,24,0) -> < | R43: =VLOOKUP($Q$10,'[7]LISTADO INDICADORES'!A$5:Y$998,23,0) -> 0.8
C44: Fuente Numerador | I44: Fuente Denominador | N44: Valor obtenido en el periodo
C45: =VLOOKUP($Q$10,'[7]LISTADO INDICADORES'!A$5:Y$998,15,0) -> Reporte aplicativo PQRS | I45: =VLOOKUP($Q$10,'[7]LISTADO INDICADORES'!A$5:Y$998,16,0) -> Reporte aplicativo PQRS | N45: =IF(Q49>0,O52,IF(P49>0,O52,IF(O49>0,O52,IF(N49>0,L52,IF(M49>0,L52,IF(L49>0,L52,IF(K49>0,I52,IF(J49>0,I52,IF(I49>0,I52,IF(H49>0,F52,IF(G49>0,F52,IF(F49>0,F52,"NO HAY DATOS")))))))))))) -> 0.88888889
C47: Mes | F47: Enero | G47: Febrero | H47: Marzo | I47: Abril | J47: Mayo | K47: Junio | L47: Julio | M47: Agosto | N47: Septiembre | O47: Octubre | P47: Noviembre | Q47: Diciembre | R47: Total
C48: Numerador | F48: 1 | G48: 1 | H48: 1 | I48: 0 | J48: 5 | K48: 3 | R48: =SUM(F48:Q48) -> 11
C49: Denominador | F49: 1 | G49: 2 | H49: 1 | I49: 1 | J49: 5 | K49: 3 | R49: =SUM(F49:Q49) -> 13
C50: Resultado | F50: =IFERROR(F48/F49,"") -> 1 | G50: =IFERROR(G48/G49,"") -> 0.5 | H50: =IFERROR(H48/H49,"") -> 1 | I50: =IFERROR(I48/I49,"") -> 0 | J50: =IFERROR(J48/J49,"") -> 1 | K50: =IFERROR(K48/K49,"") -> 1 | L50: =IFERROR(L48/L49,"") | M50: =IFERROR(M48/M49,"") | ... Q50: =IFERROR(Q48/Q49,"") | R50: =IFERROR(R48/R49," ") -> 0.84615385
C51: Vigencia anterior
C52: Trimestre | F52: =IFERROR(SUM(F48:H48)/SUM(F49:H49),"") -> 0.75 | I52: =IFERROR(SUM(I48:K48)/SUM(I49:K49),"") -> 0.88888889 | L52: =IFERROR(SUM(L48:N48)/SUM(L49:N49),"") | O52: =IFERROR(SUM(O48:Q48)/SUM(O49:Q49),"")
C53: Referente de comparación
C54: Meta | F54: 0.8 | G54: 0.8 | H54: 0.8 | I54: 0.8 | J54: 0.8 | K54: 0.8 | L54: 0.8 | M54: 0.8 | N54: 0.8 | O54: 0.8 | P54: 0.8 | Q54: 0.8 | R54: 0.8
C56: ANALISIS DE CAUSA | L56: ACCION DE MEJORA
C57: El reclamo de enero corresponde a una solicitud de remisión a nivel IV y la de marzo a un resultado de un cateterismo cardiaco.
