Workbook

Sheet INDICADOR 526 
F3: REPORTE Y ANÁLISIS DE INDICADOR | P3: GCA-CA-PD11-FORA4
P4: Versión 03
P5: Página 1 de 1
C7: =UPPER(VLOOKUP($Q$10,'[1]LISTADO INDICADORES'!A$5:Y$997,6,0)) -> PRESUPUESTO
C8: ASPECTOS GENERALES
C9: NOMBRE DEL INDICADOR | I9: TIPOLOGÍA | J9: TENDENCIA | K9: UNIDAD DE MEDIDA | L9: PERIODO DE REPORTE | N9: FECHA DE REPORTE | Q9: NUMERO DEL INDICADOR
C10: Respuesta oportuna a las Tutelas | I10: proceso | J10: creteciente | K10: % | L10: II Trimestre | N10: 16 | O10: 7 | P10: 2026 | Q10: 600
C11: OBJETIVO DEL INDICADOR | N11: INTERPRETACIÓN
C12: Medir la proporcion de las respuestas a las Tutelas dentro del termino establecido | N12: HAY 100% De respuestas de acciones de tutelas en el periodo dentro del termino establecido.
C13: Formula del indicador | N13: Análisis del Indicador
C14: No. De respuestas a las Tutelas en el periodo dentro del termino establecido / No. Total de Tutelas notificadas en el periodo *100 | N14: TODAS LAS TUTELAS QUE LLEGARON EN EL SEGUNDO TRIMESTRE DE 2026 SE RESPONDIERON DENTRO DE LOS TERMINOS ESTABLECIDOS.
C41: Numerador | I41: Denominador | N41: Rango de calificación
C42: No. De Tutelas notificadas a la entidad | I42: No. De Tutelas respondidas dentro del termino. | N42: Satisfactorio | Q42: =VLOOKUP($Q$10,'[1]LISTADO INDICADORES'!A$5:Y$997,22,0) -> ≥ | R42: =VLOOKUP($Q$10,'[1]LISTADO INDICADORES'!A$5:Y$997,23,0) -> 1
N43: Insatisfactorio | Q43: =VLOOKUP($Q$10,'[1]LISTADO INDICADORES'!A$5:Y$997,24,0) -> < | R43: =VLOOKUP($Q$10,'[1]LISTADO INDICADORES'!A$5:Y$997,23,0) -> 1
C44: Fuente Numerador | I44: Fuente Denominador | N44: Valor obtenido en el periodo
C45: Oficina Asesora Juridica | I45: Oficina Asesora Juridica | N45: =IF(Q49>0,O52,IF(P49>0,O52,IF(O49>0,O52,IF(N49>0,L52,IF(M49>0,L52,IF(L49>0,L52,IF(K49>0,I52,IF(J49>0,I52,IF(I49>0,I52,IF(H49>0,F52,IF(G49>0,F52,IF(F49>0,F52,"NO HAY DATOS")))))))))))) -> 1
C47: Mes | F47: Enero | G47: Febrero | H47: Marzo | I47: Abril | J47: Mayo | K47: Junio | L47: Julio | M47: Agosto | N47: Septiembre | O47: Octubre | P47: Noviembre | Q47: Diciembre | R47: Total
C48: Numerador | F48: 80 | G48: 104 | H48: 107 | I48: 100 | J48: 122 | K48: 87 | R48: 600
C49: Denominador | F49: 80 | G49: 104 | H49: 107 | I49: 100 | J49: 122 | K49: 87 | R49: 600
C50: Resultado | F50: =IFERROR(F48/F49,"") -> 1 | G50: =IFERROR(G48/G49,"") -> 1 | H50: =IFERROR(H48/H49,"") -> 1 | I50: =IFERROR(I48/I49,"") -> 1 | J50: =IFERROR(J48/J49,"") -> 1 | K50: =IFERROR(K48/K49,"") -> 1 | L50: =IFERROR(L48/L49,"") | M50: =IFERROR(M48/M49,"") | ... Q50: =IFERROR(Q48/Q49,"") | R50: =IFERROR(R48/R49," ") -> 1
C51: Vigencia anterior
C52: Trimestre | F52: =IFERROR(SUM(F48:H48)/SUM(F49:H49),"") -> 1 | I52: =IFERROR(SUM(I48:K48)/SUM(I49:K49),"") -> 1 | L52: =IFERROR(SUM(L48:N48)/SUM(L49:N49),"") | O52: =IFERROR(SUM(O48:Q48)/SUM(O49:Q49),"")
C53: Referente de comparación
C54: Meta | F54: 1 | G54: 1 | H54: 1 | I54: 1 | J54: 1 | K54: 1 | L54: 1 | M54: 1 | N54: 1 | O54: 1 | P54: 1 | Q54: 1 | R54: 1
C56: ANALISIS DE CAUSA | L56: ACCION DE MEJORA
C57: TODAS LAS TUTELAS QUE LLEGARON EN EL SEGUNDO TRIMESTRE DE 2026 SE RESPONDIERON DENTRO DE LOS TERMINOS ESTABLECIDOS. ARROJANDO UN PORCENTAJE.DE 100% EN EFECTIVIDAD RALACIONADO CON LA OPORTUNIDAD DE RESPUESTA ANTE LAS ENTIDADES RELACIONADAS. | L57: EN EL INDICADOR DEL SEGUNDO TRIMESTRE DEL AÑO 2026 SE EVIDENCIA UN PORCENTAJE DEL 100% , EL CUAL ENCONTRAMOS, ES POSITIVO,CON LO ANTERIOR SE VE REFLEJADO QUE LA OFICINA ASESORA JURIDICA ESTA REALIZANDO LA GESTIÓN DE LA MEJOR MANERA, POR LO TANTO SE SEGUIRA TENEINDO ENCUENTA Y TRAMITANDO ESTE INDICADOR.
C62: DILIGENCIADO POR: | L62: REVISADO POR:
C63: FABIO DE JESÚS VARGAS GAVIRIA | L63: CAROLINA URRUTIA BASTIDAS.

Sheet INDICADOR 527
F3: REPORTE Y ANÁLISIS DE INDICADOR | P3: GCA-CA-PD11-FORA4
P4: Versión 03
P5: Página 1 de 1
C7: =UPPER(VLOOKUP($Q$10,'[1]LISTADO INDICADORES'!A$5:Y$997,6,0)) -> ASEGURAMIENTO DE LA CALIDAD
C8: ASPECTOS GENERALES
C9: NOMBRE DEL INDICADOR | I9: TIPOLOGÍA | J9: TENDENCIA | K9: UNIDAD DE MEDIDA | L9: PERIODO DE REPORTE | N9: FECHA DE REPORTE | Q9: NUMERO DEL INDICADOR
C10: ESTUDIOS PREVIOS | I10: PROCESO | J10: CRECIENTE | K10: =VLOOKUP($Q$10,'[1]LISTADO INDICADORES'!A$5:Y$997,17,0) -> % | L10: II Trimestre | N10: 23 | O10: 7 | P10: 2026 | Q10: 404
C11: OBJETIVO DEL INDICADOR | N11: INTERPRETACIÓN
C12: Medir la cantidad de estudios previos tramitados dentro de un periodo | N12: Hay 50% De estudios previos tramitados en el periodo
C13: Formula del indicador | N13: Análisis del Indicador
C14: =IF(K10="%",C42&" / "&I42&" *100",IF(K10="tasa",C42&" / "&I42&" *1000",IF(K10="Minutos",C42&" / "&I42,IF(K10="Cantidad",C42&" / "&I42,IF(K10="Egresos/cama",C42&" / "&I42,IF(K10="Cantidad",C42&" / "&I42,IF(K10="Horas",C42&" / "&I42,IF(K10="Proporción",C42&" / "&I42,IF(K10="Días",C42&" / "&I42,""))))))))) -> No. De estudios previos tramitados en el periodo / No. Total de estudios previos radicados en el periodo *100 | N14: DE ESTE INDICADOR, DEJAMOS EN CLARO QUE LA OFICINA SEGUIRA TOMANDO EL INDICADOR DE ESTA MANERA, CON LA FINALIDAD DE TENER MAYOR EFECTIVIDAD Y VERDADEROS NUMEROS VERIFICADOS DE MANERA MAS VERAZ. TENIENDO EN CUENTA LOS NUMEROS QUE ARROJA EL SEGUNDO TRIMESTRE DEL AÑO 2026 EL CUAL SE EVIDENCIA UN 90% EN UN RANGO DE CALIFICACION SATISFACTORIA, POR LO TANTO LA OFICINA ASESORA JURÍDICA CONTINUARA IMPLEMENTANDO LA MEDICION DE LOS INDICADORES.
C41: Numerador | I41: Denominador | N41: Rango de calificación
C42: No. De estudios previos tramitados en el periodo | I42: No. Total de estudios previos radicados en el periodo | N42: Satisfactorio | Q42: =VLOOKUP($Q$10,'[1]LISTADO INDICADORES'!A$5:Y$997,22,0) -> ≥ | R42: =VLOOKUP($Q$10,'[1]LISTADO INDICADORES'!A$5:Y$997,23,0) -> 0.64
N43: Insatisfactorio | Q43: =VLOOKUP($Q$10,'[1]LISTADO INDICADORES'!A$5:Y$997,24,0) -> < | R43: =VLOOKUP($Q$10,'[1]LISTADO INDICADORES'!A$5:Y$997,23,0) -> 0.64
C44: Fuente Numerador | I44: Fuente Denominador | N44: Valor obtenido en el periodo
C45: =VLOOKUP($Q$10,'[1]LISTADO INDICADORES'!A$5:Y$997,15,0) -> Seguridad del Paciente | I45: =VLOOKUP($Q$10,'[1]LISTADO INDICADORES'!A$5:Y$997,16,0) -> Seguridad del Paciente | N45: =IF(Q49>0,O52,IF(P49>0,O52,IF(O49>0,O52,IF(N49>0,L52,IF(M49>0,L52,IF(L49>0,L52,IF(K49>0,I52,IF(J49>0,I52,IF(I49>0,I52,IF(H49>0,F52,IF(G49>0,F52,IF(F49>0,F52,"NO HAY DATOS")))))))))))) -> 0.90277778
C47: Mes | F47: Enero | G47: Febrero | H47: Marzo | I47: Abril | J47: Mayo | K47: Junio | L47: Julio | M47: Agosto | N47: Septiembre | O47: Octubre | P47: Noviembre | Q47: Diciembre | R47: Total
C48: Numerador | F48: 16 | G48: 38 | H48: 49 | I48: 17 | J48: 5 | K48: 43 | R48: =SUM(F48:Q48) -> 168
C49: Denominador | F49: 42 | G49: 41 | H49: 45 | I49: 17 | J49: 6 | K49: 49 | R49: =SUM(F49:Q49) -> 200
C50: Resultado | F50: =IFERROR(F48/F49,"") -> 0.38095238 | G50: =IFERROR(G48/G49,"") -> 0.92682927 | H50: =IFERROR(H48/H49,"") -> 1.0888889 | I50: =IFERROR(I48/I49,"") -> 1 | J50: =IFERROR(J48/J49,"") -> 0.83333333 | K50: =IFERROR(K48/K49,"") -> 0.87755102 | L50: =IFERROR(L48/L49,"") | M50: =IFERROR(M48/M49,"") | ... Q50: =IFERROR(Q48/Q49,"") | R50: =IFERROR(R48/R49," ") -> 0.84
C51: Vigencia anterior
C52: Trimestre | F52: =IFERROR(SUM(F48:H48)/SUM(F49:H49),"") -> 0.8046875 | I52: =IFERROR(SUM(I48:K48)/SUM(I49:K49),"") -> 0.90277778 | L52: =IFERROR(SUM(L48:N48)/SUM(L49:N49),"") | O52: =IFERROR(SUM(O48:Q48)/SUM(O49:Q49),"")
C53: Referente de comparación
C54: Meta | F54: 0.9 | G54: 0.9 | H54: 0.9 | I54: 0.9 | J54: 0.9 | K54: 0.9 | L54: 0.9 | M54: 0.9 | N54: 0.9 | O54: 0.9 | P54: 0.9 | Q54: 0.9 | R54: 0.9
C56: ANALISIS DE CAUSA | L56: ACCION DE MEJORA
C57: UNA VEZ, COMPARADO LOS INDICADORES DEL PRIMER TRIMESTRE DEL AÑO 2026 CON LOS INDICADORES DEL ULTIMO TRIMESTRE DEL AÑO 2025, PODEMOS VER QUE LOS MISMOS SE VERIFICAN DE MANERA MAS EFICAZ, YA QUE COMO SE EXPLICO EN EL INFORME TRIMESTRAL ANTERIOS SE ESTABAN CONTANDO TIEMPOS QUE NO SON ATRIBUIBLES A LA OFICINA ASESORA JURIDICA TALES COMO : TIEMPO DEL ESTUDIO PREVIO EN LAS OFICINAS DE SUBGERENCIA, GERENCIA Y PRESUPUESTO DEL MISMO MODO SE LE ESTABA CONTANDO A LA OFICINA ASESORA JURIDICA TIEMPOS ATRIBUIBLES A LOS CONTRATISTAS COMO EL TIEMPO DE LA FIRMA DEL CONTRATO, TIEMPO EN EL DESARROLLO DE OBSERVACIONES CUANDO LAS HACE EL CONTRATISTA, EXPEDICIÓN DE PÓLIZAS, RAZÓN POR LA CUAL LA OFICINA ASESORA JURIDICA DESDE EL PRIMER TRIMESTRE DEL AÑO 2026 CONTARA Y REGISTRARÁ EL INDICADOR DE ESTUDIOS PREVIOS CUANDO EL MISMO SALGA CON EL VISTO BUENO DE LA JEFE JURIDICA Y DEMAS ENCARGADOS Y SEA REGISTRADO EN EL LIBRO DE VARIOS EN LA SUBGERENCIA QUE CORRESPONDA. TENIENDO EN CUENTA LO MENCIONADO, EN EL PRESENTE INDICADOR SE TIENE QUE: ( PONER LOS DATOS ) ASI LAS COSAS SE DENOTA QUE, ES MEJORES LOS INDICADORES DE ESTUDIOS PREVIOS EN ESTA FORMA YA QUE SE OBTIENE UN DATO CERTERO Y CONTUNDENTE CUANDO DE MEDIR LA EFECTIVIDAD Y EFICIENCIA DE LA OFICINA ASESORA JURIDICA. TENIENDO EN CUENTA QUE, PARA EL SEGUNDO TRIMESTRE REALIZARIA EL CONTEO DE ESTUDIOS PREVIOS CUANDO LOS MISMOS SALIERAN DE REVISION POR PARTE DE LA OFICINA ASESORA JURIDICA, SE DEJA EN CLARO QUE SE OBTIENE UN PORCENTAJE SATISFACTORIO DEL 90 % PORCIENTO, AUMENTANDO DEL 80% AL 90 % ASPECTO QUE RESULTA POSITIVO CUANDO DE OBTNER UNA MEJOR EFICACIA CON RESPECTO A LA MEDICION DEL DESARROLLO, ESTUDIO Y REALIZACION DE LOS ESTUDIOS PREVIOS EN CADA PROCESO TODA VEZ QUE, COMO SE PLASMO CON ANTERIORIDAD MEDIR LOS ESTUDIOS PREVIOS HASTA LA REALIZACION DEL CONTRATO AFECTABA DE MANERA DIRECTA EL INDICADOR POR QUE SE LE CONTABAN LOS TIEMPOS DE LAS DEMAS OFICINAS, TIMEPOS QUE NO SE LE PODIAN CONTINUAR ENDILGANDO A LA OFICINA ASSESORA JURIDICA., ASI LAS COSAS EL RESULTADO PARA EL SEGUNDO TRIMESTRE DEL AÑO EN CURSO MUESTRA UNA TENDENCIA AL ALZA MEJORANDO DE FORMA POSITIVA EL CONTEO DEL INDICADOR CON RESPECTO A LOS ESTUDIOS PREVIOS QUE LLEGAN A LA OFICNA SESORA JURIDICA. | L57: ANALIZANDO EL INDICADOR DEL PRIMER TRIMESTRE DEL AÑO 2026 NOS ARROJA UN PORCENTAJE DEL 80%, EL CUAL ES SATISFACTORIO DENTRO LA MEDICION DEL MISMO. LO ANTERIRO EVIDENCIA QUE LA OFICINA ASESORA JURIDICA VIENE REALIZANDO EL TRABAJO DE LA MEJOR MANERA, ASI LAS COSAS SE SEGUIRA TENEINDO ESTE INDICADOR, POR LA OFICINA JURIDICA SEGUIRÁ TDE ESTA MANERA PARA TENER MAYOR EFECTIVIDAD Y VERDADEROS NUMEROS VERIFICADOS DE MANERA MAS VERAZ. LA OFICINA ASESORA JURIDICA CONTINUARA RELAIZANDO EL CONTEO CON ESTE METODO CON EL FIN DE OBTENER UNA MEJOR EFICACIA Y EFICIENCIA EN EL INDICADOR.
C62: DILIGENCIADO POR: | L62: REVISADO POR:
C63: CARLOS ESTEBAN MUÑOZ URBANO | L63: CAROLINA URRUTIA BASTIDAS.

Sheet INDICADOR 528
F3: REPORTE Y ANÁLISIS DE INDICADOR | P3: GCA-CA-PD11-FORA4
P4: Versión 03
P5: Página 1 de 1
C7: =UPPER(VLOOKUP($Q$10,'[1]LISTADO INDICADORES'!A$5:Y$997,6,0)) -> REPRESENTACIÓN JURIDICA
C8: ASPECTOS GENERALES
C9: NOMBRE DEL INDICADOR | I9: TIPOLOGÍA | J9: TENDENCIA | K9: UNIDAD DE MEDIDA | L9: PERIODO DE REPORTE | N9: FECHA DE REPORTE | Q9: NUMERO DEL INDICADOR
C10: =VLOOKUP($Q$10,'[1]LISTADO INDICADORES'!A$5:Y$997,4,0) -> Respuesta oportuna a derechos de petición | I10: =VLOOKUP($Q$10,'[1]LISTADO INDICADORES'!A$5:Y$997,20,0) -> proceso | J10: =VLOOKUP($Q$10,'[1]LISTADO INDICADORES'!A$5:Y$997,21,0) -> Creciente | K10: =VLOOKUP($Q$10,'[1]LISTADO INDICADORES'!A$5:Y$997,17,0) -> % | L10: II Trimestre | N10: 21 | O10: 7 | P10: 2026 | Q10: 528
C11: OBJETIVO DEL INDICADOR | N11: INTERPRETACIÓN
C12: =VLOOKUP($Q$10,'[1]LISTADO INDICADORES'!A$5:Y$997,10,0) -> Medir la proporcion de las respuestas a los derechos de peticion dentro del termino establecido | N12: =IFERROR("Hay un "&FIXED(N45,4)*100&"%"&" de adherencia a guias de prcatica Clinica","NO HAY DATOS") -> Hay un 100% de adherencia a guias de prcatica Clinica
C13: Formula del indicador | N13: Análisis del Indicador
C14: =IF(K10="%",C42&" / "&I42&" *100",IF(K10="tasa",C42&" / "&I42&" *1000",IF(K10="Minutos",C42&" / "&I42,IF(K10="Cantidad",C42&" / "&I42,IF(K10="Egresos/cama",C42&" / "&I42,IF(K10="Cantidad",C42&" / "&I42,IF(K10="Horas",C42&" / "&I42,IF(K10="Proporción",C42&" / "&I42,IF(K10="Días",C42&" / "&I42,""))))))))) -> No. De de respuestas a derechos de petición en el periodo dentro del termino establecido / No. Total de de derechos de petición radicados en el periodo *100 | N14: TODOS LOS DERECHOS DE PETICION QUE LLEGARON EN EL II TRIMESTRE DE 2026 SE RESPONDIERON DENTRO DE LOS TERMINOS ESTABLECIDOS.
C41: Numerador | I41: Denominador | N41: Rango de calificación
C42: =VLOOKUP($Q$10,'[1]LISTADO INDICADORES'!A$5:Y$997,13,0) -> No. De de respuestas a derechos de petición en el periodo dentro del termino establecido | I42: =VLOOKUP($Q$10,'[1]LISTADO INDICADORES'!A$5:Y$997,14,0) -> No. Total de de derechos de petición radicados en el periodo | N42: Satisfactorio | Q42: =VLOOKUP($Q$10,'[1]LISTADO INDICADORES'!A$5:Y$997,22,0) -> = | R42: =VLOOKUP($Q$10,'[1]LISTADO INDICADORES'!A$5:Y$997,23,0) -> 1
N43: Insatisfactorio | Q43: =VLOOKUP($Q$10,'[1]LISTADO INDICADORES'!A$5:Y$997,24,0) -> < | R43: =VLOOKUP($Q$10,'[1]LISTADO INDICADORES'!A$5:Y$997,23,0) -> 1
C44: Fuente Numerador | I44: Fuente Denominador | N44: Valor obtenido en el periodo
C45: =VLOOKUP($Q$10,'[1]LISTADO INDICADORES'!A$5:Y$997,15,0) -> Oficina juridica | I45: =VLOOKUP($Q$10,'[1]LISTADO INDICADORES'!A$5:Y$997,16,0) -> Oficina juridica | N45: =IF(Q49>0,O52,IF(P49>0,O52,IF(O49>0,O52,IF(N49>0,L52,IF(M49>0,L52,IF(L49>0,L52,IF(K49>0,I52,IF(J49>0,I52,IF(I49>0,I52,IF(H49>0,F52,IF(G49>0,F52,IF(F49>0,F52,"NO HAY DATOS")))))))))))) -> 1
C47: Mes | F47: Enero | G47: Febrero | H47: Marzo | I47: Abril | J47: Mayo | K47: Junio | L47: Julio | M47: Agosto | N47: Septiembre | O47: Octubre | P47: Noviembre | Q47: Diciembre | R47: Total
C48: Numerador | F48: 6 | G48: 5 | H48: 7 | I48: 4 | J48: 14 | K48: 13 | R48: =SUM(F48:Q48) -> 49
C49: Denominador | F49: 6 | G49: 5 | H49: 7 | I49: 4 | J49: 14 | K49: 13 | R49: =SUM(F49:Q49) -> 49
C50: Resultado | F50: =IFERROR(F48/F49,"") -> 1 | G50: =IFERROR(G48/G49,"") -> 1 | H50: =IFERROR(H48/H49,"") -> 1 | I50: =IFERROR(I48/I49,"") -> 1 | J50: =IFERROR(J48/J49,"") -> 1 | K50: =IFERROR(K48/K49,"") -> 1 | L50: =IFERROR(L48/L49,"") | M50: =IFERROR(M48/M49,"") | ... Q50: =IFERROR(Q48/Q49,"") | R50: =IFERROR(R48/R49," ") -> 1
C51: Vigencia anterior
C52: Trimestre | F52: =IFERROR(SUM(F48:H48)/SUM(F49:H49),"") -> 1 | I52: =IFERROR(SUM(I48:K48)/SUM(I49:K49),"") -> 1 | L52: =IFERROR(SUM(L48:N48)/SUM(L49:N49),"") | O52: =IFERROR(SUM(O48:Q48)/SUM(O49:Q49),"")
C53: Referente de comparación
C54: Meta | F54: 1 | G54: 1 | H54: 1 | I54: 1 | J54: 1 | K54: 1 | L54: 1 | M54: 1 | N54: 1 | O54: 1 | P54: 1 | Q54: 1
C56: ANALISIS DE CAUSA | L56: ACCION DE MEJORA
C57: la oficina asesora juridica es responsable de los derechos de peticion; los cuales son recepcionados por medio electronico y fisico, dando respuesta oportuna dentro de los tiempos establecidos. Lo que conlleva a que el indicador este al cien por ciento.
C62: DILIGENCIADO POR: | L62: REVISADO POR:
C63: MILLER ANTE | L63: CAROLINA URRUTIA BASTIDAS.

Sheet Consolidado
D4: MATRIZ DE SEGUIMIENTO A INDICADORES INSTITUCIONALES
B6: PROCESO: OFICINA ASESORA JURIDICA | D6: RESPONSABLE: CAROLINA URRUTIA BASTIDAS | J6: FECHA DE REPORTE | K6: 46226
B8: No. | C8: Nombre del indicador | D8: Unidad de medida | E8: Meta ≥ ó ≤ | F8: Resultado vigencia anterior | G8: Resultado I Trimestre | H8: Resultado II Trimestre | I8: Resultado III Trimestre | J8: Resultado IV Trimestre | K8: Resultado final vigencia actual | L8: Variación vigencia
B9: 1 | C9: ='INDICADOR 526 '!C10 -> Respuesta oportuna a las Tutelas | D9: =[2]publicaciones!K10 -> % | E9: 1 | F9: ='INDICADOR 526 '!R51 -> 0 | G9: ='INDICADOR 526 '!F52 -> 1 | H9: 1 | I9: ='INDICADOR 526 '!H52 -> 0 | J9: 0 | K9: ='INDICADOR 526 '!R50 -> 1 | L9: =IFERROR(((K9-F9)/K9),"") -> 1
B10: 2 | C10: ='INDICADOR 527'!C10 -> ESTUDIOS PREVIOS | D10: ='[2]produccion audiovisual'!K10 -> % | E10: >90% | F10: ='INDICADOR 527'!R51 -> 0 | G10: ='INDICADOR 527'!F52 -> 0.8046875 | H10: 0.9 | I10: ='INDICADOR 527'!H52 -> 0 | J10: 0 | K10: ='INDICADOR 527'!R50 -> 0.84 | L10: =IFERROR(((K10-F10)/K10),"") -> 1
B11: 3 | C11: ='INDICADOR 528'!C10 -> Respuesta oportuna a derechos de petición | D11: ='[2]notas de duelo'!K10 -> Cantidad | E11: 1 | F11: ='INDICADOR 528'!R51 -> 0 | G11: ='INDICADOR 528'!F52 -> 1 | H11: 1 | I11: ='INDICADOR 528'!H52 -> 0 | J11: 0 | K11: ='INDICADOR 528'!R50 -> 1 | L11: =IFERROR(((K11-F11)/K11),"") -> 1
C12: CUMPLIMIENTO GENERAL DE INDICADORES (número de indicadores cumplidos / total de indicadores * 100)
B15: OBSERVACIONES (Situaciones internas o externas al proceso o a la entidad que pueden afectar el resultado de los indicadores)
B16: Los indicadores de tutelas y derechos de peticion fueron recepcionados por medio electronico y fisico, dando respuesta oportuna dentro de los tiempos establecidos. Lo que conlleva a que el indicador este al cien por ciento.
B22: CONCLUSIONES (inicialmente se debe comenzar con el procentaje de cumplimiento de indicadores)
B23: EN EL INDICADOR DE ESTUDIOS PREVIOS, SE ACLARA QUE LA OFICINA SEGUIRA TOMANDO EL INDICADOR DE ESTA MANERA, CON LA FINALIDAD DE TENER MAYOR EFECTIVIDAD Y VERDADEROS NUMEROS DE MANERA MAS VERAZ. TENIENDO EN CUENTA LOS NUMEROS QUE ARROJA EL SEGUNDO TRIMESTRE DEL AÑO 2026 EL CUAL SE EVIDENCIA UN 90% EN UN RANGO DE CALIFICACION SATISFACTORIA, POR LO TANTO LA OFICINA ASESORA JURÍDICA CONTINUARA DE ESTA MANERA LA MEDICION DE LOS INDICADORES.
B29: RECOMENDACIONES
B36: OTRA INFORMACION RELEVANTE
